BEGIN:VCALENDAR
VERSION:2.0
PRODID:-//WildHeart - ECPv6.15.20//NONSGML v1.0//EN
CALSCALE:GREGORIAN
METHOD:PUBLISH
X-ORIGINAL-URL:https://www.wildheartcenter.art
X-WR-CALDESC:Events for WildHeart
REFRESH-INTERVAL;VALUE=DURATION:PT1H
X-Robots-Tag:noindex
X-PUBLISHED-TTL:PT1H
BEGIN:VTIMEZONE
TZID:America/New_York
BEGIN:DAYLIGHT
TZOFFSETFROM:-0500
TZOFFSETTO:-0400
TZNAME:EDT
DTSTART:20250309T070000
END:DAYLIGHT
BEGIN:STANDARD
TZOFFSETFROM:-0400
TZOFFSETTO:-0500
TZNAME:EST
DTSTART:20251102T060000
END:STANDARD
BEGIN:DAYLIGHT
TZOFFSETFROM:-0500
TZOFFSETTO:-0400
TZNAME:EDT
DTSTART:20260308T070000
END:DAYLIGHT
BEGIN:STANDARD
TZOFFSETFROM:-0400
TZOFFSETTO:-0500
TZNAME:EST
DTSTART:20261101T060000
END:STANDARD
BEGIN:DAYLIGHT
TZOFFSETFROM:-0500
TZOFFSETTO:-0400
TZNAME:EDT
DTSTART:20270314T070000
END:DAYLIGHT
BEGIN:STANDARD
TZOFFSETFROM:-0400
TZOFFSETTO:-0500
TZNAME:EST
DTSTART:20271107T060000
END:STANDARD
BEGIN:DAYLIGHT
TZOFFSETFROM:-0500
TZOFFSETTO:-0400
TZNAME:EDT
DTSTART:20280312T070000
END:DAYLIGHT
BEGIN:STANDARD
TZOFFSETFROM:-0400
TZOFFSETTO:-0500
TZNAME:EST
DTSTART:20281105T060000
END:STANDARD
END:VTIMEZONE
BEGIN:VEVENT
DTSTART;TZID=America/New_York:20260101T000000
DTEND;TZID=America/New_York:20270131T000000
DTSTAMP:20260421T142120
CREATED:20230101T224703Z
LAST-MODIFIED:20260108T180915Z
UID:10000183-1767225600-1801353600@www.wildheartcenter.art
SUMMARY:Artist Residencies
DESCRIPTION:
URL:https://www.wildheartcenter.art/event/artist-residency-2/
CATEGORIES:Artist Residencies
ATTACH;FMTTYPE=image/jpeg:https://www.wildheartcenter.art/wp-content/uploads/2022/05/artist-residencies-scaled-e1654436031852.jpeg
END:VEVENT
BEGIN:VEVENT
DTSTART;TZID=America/New_York:20260428T180000
DTEND;TZID=America/New_York:20260428T193000
DTSTAMP:20260421T142120
CREATED:20260404T125336Z
LAST-MODIFIED:20260404T125909Z
UID:10002137-1777399200-1777404600@www.wildheartcenter.art
SUMMARY:Authentic Movement Spring Series
DESCRIPTION:Authentic Movement is a contemplative dance practice where a mover explores the unconscious mind through self-directed\, expressive movement while being witnessed with compassion and non-judgment. This relational practice of “seeing and being seen” fosters trust\, self-awareness\, and a deeper connection to one’s inner experience.
URL:https://www.wildheartcenter.art/event/authentic-movement-spring-series-2026/2026-04-28/
CATEGORIES:Classes & Events
ATTACH;FMTTYPE=image/jpeg:https://www.wildheartcenter.art/wp-content/uploads/2025/09/IMG_9114.jpg
END:VEVENT
BEGIN:VEVENT
DTSTART;TZID=America/New_York:20260429T080000
DTEND;TZID=America/New_York:20260429T170000
DTSTAMP:20260421T142120
CREATED:20260302T052425Z
LAST-MODIFIED:20260320T191350Z
UID:10002068-1777449600-1777482000@www.wildheartcenter.art
SUMMARY:Infant Developmental Movement Classes
DESCRIPTION:
URL:https://www.wildheartcenter.art/event/infant-developmental-movement-classes-springs-2026/2026-04-29/
CATEGORIES:Classes & Events
ATTACH;FMTTYPE=image/jpeg:https://www.wildheartcenter.art/wp-content/uploads/2026/03/E.Feit_Main_Image_Series2_3of3.jpg
END:VEVENT
BEGIN:VEVENT
DTSTART;TZID=America/New_York:20260430T080000
DTEND;TZID=America/New_York:20260430T170000
DTSTAMP:20260421T142120
CREATED:20260303T211407Z
LAST-MODIFIED:20260320T190447Z
UID:10002073-1777536000-1777568400@www.wildheartcenter.art
SUMMARY:Song Circle
DESCRIPTION:
URL:https://www.wildheartcenter.art/event/song-circle-april-2026/2026-04-30/
CATEGORIES:Classes & Events
ATTACH;FMTTYPE=image/jpeg:https://www.wildheartcenter.art/wp-content/uploads/2026/03/SongCircle.jpg
END:VEVENT
BEGIN:VEVENT
DTSTART;TZID=America/New_York:20260430T103000
DTEND;TZID=America/New_York:20260430T110000
DTSTAMP:20260421T142120
CREATED:20260417T210832Z
LAST-MODIFIED:20260417T210902Z
UID:10000342-1777545000-1777546800@www.wildheartcenter.art
SUMMARY:CANCELLED - Weekly Community Sit (Online)
DESCRIPTION:This week’s event is cancelled! See you next week 🙂 \n\n\n\nA weekly 30-minute silent unguided meditation\, open and free to attend.Feel free to bring your own meditation practice along with any props to make yourself comfortable. We will begin and end in silence. \n\n\n\nWhat to expect on Zoom – You’ll be joining Niki and/or other WildHeart community members in meditation\, either in the Barn or—weather permitting—outside on the land. \n\n\n\nJoin Zoom Meeting https://us05web.zoom.us/j/86265272473?pwd=tb2sIJus8oaUL4rsZ8LtprIlz7rf0k.1Meeting ID: 862 6527 2473Passcode: 0000 \n\n\n\nNo registration required / no experience necessary / all are welcome 💜 \n\n\n\nCost: Free
URL:https://www.wildheartcenter.art/event/weekly-community-sit-online-2/
CATEGORIES:Classes & Events
ATTACH;FMTTYPE=image/jpeg:https://www.wildheartcenter.art/wp-content/uploads/2024/10/20230927_105309.jpg
END:VEVENT
BEGIN:VEVENT
DTSTART;TZID=America/New_York:20260501T170000
DTEND;TZID=America/New_York:20260501T183000
DTSTAMP:20260421T142120
CREATED:20260320T182132Z
LAST-MODIFIED:20260320T183129Z
UID:10002096-1777654800-1777660200@www.wildheartcenter.art
SUMMARY:Movement Invitations that Sidestep Translation
DESCRIPTION:
URL:https://www.wildheartcenter.art/event/movement-invitations-that-sidestep-translation/2026-05-01/
CATEGORIES:Classes & Events
ATTACH;FMTTYPE=image/jpeg:https://www.wildheartcenter.art/wp-content/uploads/2026/03/dance-AZ-cacti.jpg
END:VEVENT
BEGIN:VEVENT
DTSTART;TZID=America/New_York:20260502T120000
DTEND;TZID=America/New_York:20260502T200000
DTSTAMP:20260421T142120
CREATED:20260417T095743Z
LAST-MODIFIED:20260417T095909Z
UID:10002144-1777723200-1777752000@www.wildheartcenter.art
SUMMARY:Self Source
DESCRIPTION:As we gently develop our capacity to feel\, sense\, and express\, we awaken the more subtle pleasures of life. This event focuses on cultivating our personal relationship with sensuality through awareness\, sound\, breath\, and movement. The decadent day will guide us into greater union with ourselves\, the land\, and then each other\, from a centered and loving place.
URL:https://www.wildheartcenter.art/event/self-source-retreat/
CATEGORIES:Classes & Events
ATTACH;FMTTYPE=image/jpeg:https://www.wildheartcenter.art/wp-content/uploads/2026/04/image1-2.jpeg
END:VEVENT
BEGIN:VEVENT
DTSTART;TZID=America/New_York:20260503T160000
DTEND;TZID=America/New_York:20260503T183000
DTSTAMP:20260421T142120
CREATED:20251227T122154Z
LAST-MODIFIED:20251227T122159Z
UID:10000864-1777824000-1777833000@www.wildheartcenter.art
SUMMARY:Contact Improv Sundays @ WildHeart
DESCRIPTION:Contact Improv Sundays @ WildHeart \n\n\n\n  \n\n\n\nFirst and Third Sundays \n\n\n\n4:00-6:30pm (2nd and 4th Sundays in Kingston!) \n\n\n\nBYO dinner for a studio-floor picnic afterward \n\n\n\nCI Lab 4-5pm (with rotating teachers) \n\n\n\nOpen Jam 5-6:30pm \n\n\n\nRegister in advance \n\n\n\nOr if you prefer to pay cash at the door\, send us an email to let us know you’re coming\, so we can help you find your way to the studio. \n\n\n\nOvernight guests welcome (with advance notice). Let us know if you want to make a longer visit to WildHeart… email contact@wildheartcenter.art \n\n\n\nFacilitator: TBD \n\n\n\nWeeks that we’re not Jamming @ WildHeart\, Hudson Valley Contact Improv continues in Kingston. Email Hudsonvalleycontactimprov@gmail.com for more on the Kingston Jam \n\n\n\nLocation- This workshop will take place in the Barn. If you’re coming to WildHeart for the first time\, please visit our Directions page for arrival info. Refund policy No refunds\, no transfers
URL:https://www.wildheartcenter.art/event/contact-improv-sundays-20260503/
CATEGORIES:Classes & Events
ATTACH;FMTTYPE=image/jpeg:https://www.wildheartcenter.art/wp-content/uploads/2022/05/Contact-Improvisation-Wildheart-scaled.jpg
END:VEVENT
END:VCALENDAR