BEGIN:VCALENDAR
VERSION:2.0
PRODID:-//WildHeart - ECPv6.15.20//NONSGML v1.0//EN
CALSCALE:GREGORIAN
METHOD:PUBLISH
X-ORIGINAL-URL:https://www.wildheartcenter.art
X-WR-CALDESC:Events for WildHeart
REFRESH-INTERVAL;VALUE=DURATION:PT1H
X-Robots-Tag:noindex
X-PUBLISHED-TTL:PT1H
BEGIN:VTIMEZONE
TZID:America/New_York
BEGIN:DAYLIGHT
TZOFFSETFROM:-0500
TZOFFSETTO:-0400
TZNAME:EDT
DTSTART:20250309T070000
END:DAYLIGHT
BEGIN:STANDARD
TZOFFSETFROM:-0400
TZOFFSETTO:-0500
TZNAME:EST
DTSTART:20251102T060000
END:STANDARD
BEGIN:DAYLIGHT
TZOFFSETFROM:-0500
TZOFFSETTO:-0400
TZNAME:EDT
DTSTART:20260308T070000
END:DAYLIGHT
BEGIN:STANDARD
TZOFFSETFROM:-0400
TZOFFSETTO:-0500
TZNAME:EST
DTSTART:20261101T060000
END:STANDARD
BEGIN:DAYLIGHT
TZOFFSETFROM:-0500
TZOFFSETTO:-0400
TZNAME:EDT
DTSTART:20270314T070000
END:DAYLIGHT
BEGIN:STANDARD
TZOFFSETFROM:-0400
TZOFFSETTO:-0500
TZNAME:EST
DTSTART:20271107T060000
END:STANDARD
BEGIN:DAYLIGHT
TZOFFSETFROM:-0500
TZOFFSETTO:-0400
TZNAME:EDT
DTSTART:20280312T070000
END:DAYLIGHT
BEGIN:STANDARD
TZOFFSETFROM:-0400
TZOFFSETTO:-0500
TZNAME:EST
DTSTART:20281105T060000
END:STANDARD
END:VTIMEZONE
BEGIN:VEVENT
DTSTART;TZID=America/New_York:20260101T000000
DTEND;TZID=America/New_York:20270131T000000
DTSTAMP:20260423T021656
CREATED:20230101T224703Z
LAST-MODIFIED:20260108T180915Z
UID:10000183-1767225600-1801353600@www.wildheartcenter.art
SUMMARY:Artist Residencies
DESCRIPTION:
URL:https://www.wildheartcenter.art/event/artist-residency-2/
CATEGORIES:Artist Residencies
ATTACH;FMTTYPE=image/jpeg:https://www.wildheartcenter.art/wp-content/uploads/2022/05/artist-residencies-scaled-e1654436031852.jpeg
END:VEVENT
BEGIN:VEVENT
DTSTART;TZID=America/New_York:20260224T180000
DTEND;TZID=America/New_York:20260224T193000
DTSTAMP:20260423T021656
CREATED:20260105T225250Z
LAST-MODIFIED:20260108T141701Z
UID:10001224-1771956000-1771961400@www.wildheartcenter.art
SUMMARY:Authentic Movement Winter Series
DESCRIPTION:Authentic Movement is a contemplative dance practice where a mover explores the unconscious mind through self-directed\, expressive movement while being witnessed with compassion and non-judgment. This relational practice of “seeing and being seen” fosters trust\, self-awareness\, and a deeper connection to one’s inner experience.
URL:https://www.wildheartcenter.art/event/authentic-movement-winter-series-2026/2026-02-24/
CATEGORIES:Classes & Events
ATTACH;FMTTYPE=image/jpeg:https://www.wildheartcenter.art/wp-content/uploads/2025/09/IMG_9114.jpg
END:VEVENT
BEGIN:VEVENT
DTSTART;TZID=America/New_York:20260226T103000
DTEND;TZID=America/New_York:20260226T110000
DTSTAMP:20260423T021656
CREATED:20260205T215011Z
LAST-MODIFIED:20260205T215113Z
UID:10000333-1772101800-1772103600@www.wildheartcenter.art
SUMMARY:Weekly Community Sit (Online)
DESCRIPTION:A weekly 30-minute silent unguided meditation\, open and free to attend.Feel free to bring your own meditation practice along with any props to make yourself comfortable. We will begin and end in silence.  \n\n\n\nWhat to expect on Zoom – You’ll be joining Niki and/or other WildHeart community members in meditation\, either in the Barn or—weather permitting—outside on the land. \n\n\n\nJoin Zoom Meeting https://us05web.zoom.us/j/86265272473?pwd=tb2sIJus8oaUL4rsZ8LtprIlz7rf0k.1Meeting ID: 862 6527 2473Passcode: 0000 \n\n\n\nNo registration required / no experience necessary / all are welcome 💜 \n\n\n\nCost: Free
URL:https://www.wildheartcenter.art/event/weekly-community-sit-online/2026-02-26/
CATEGORIES:Classes & Events
ATTACH;FMTTYPE=image/jpeg:https://www.wildheartcenter.art/wp-content/uploads/2024/10/20230927_105309.jpg
END:VEVENT
BEGIN:VEVENT
DTSTART;TZID=America/New_York:20260226T190000
DTEND;TZID=America/New_York:20260226T200000
DTSTAMP:20260423T021657
CREATED:20260119T163450Z
LAST-MODIFIED:20260119T171838Z
UID:10001237-1772132400-1772136000@www.wildheartcenter.art
SUMMARY:Vocal Prism
DESCRIPTION:Vocal Prism is a six week class series focusing on vocal improvisation; the practice and tools to develop it.
URL:https://www.wildheartcenter.art/event/vocal-prism-winter-2026/2026-02-26/
CATEGORIES:Classes & Events
ATTACH;FMTTYPE=image/jpeg:https://www.wildheartcenter.art/wp-content/uploads/2026/01/sasha_mov-st-njcu_21.jpg
END:VEVENT
BEGIN:VEVENT
DTSTART;TZID=America/New_York:20260301T120000
DTEND;TZID=America/New_York:20260301T140000
DTSTAMP:20260423T021657
CREATED:20260124T071808Z
LAST-MODIFIED:20260124T071817Z
UID:10001241-1772366400-1772373600@www.wildheartcenter.art
SUMMARY:Contemporary Dance (Mixed Levels)
DESCRIPTION:
URL:https://www.wildheartcenter.art/event/contemporary-dance-march-1/
CATEGORIES:Classes & Events
ATTACH;FMTTYPE=image/jpeg:https://www.wildheartcenter.art/wp-content/uploads/2025/10/©NYCP-6954-flip.jpg
END:VEVENT
BEGIN:VEVENT
DTSTART;TZID=America/New_York:20260301T160000
DTEND;TZID=America/New_York:20260301T183000
DTSTAMP:20260423T021657
CREATED:20251227T114732Z
LAST-MODIFIED:20251227T114735Z
UID:10000860-1772380800-1772389800@www.wildheartcenter.art
SUMMARY:Contact Improv Sundays @ WildHeart
DESCRIPTION:Contact Improv Sundays @ WildHeart \n\n\n\n  \n\n\n\nFirst and Third Sundays \n\n\n\n4:00-6:30pm (2nd and 4th Sundays in Kingston!) \n\n\n\nBYO dinner for a studio-floor picnic afterward \n\n\n\nCI Lab 4-5pm (with rotating teachers) \n\n\n\nOpen Jam 5-6:30pm \n\n\n\nRegister in advance \n\n\n\nOr if you prefer to pay cash at the door\, send us an email to let us know you’re coming\, so we can help you find your way to the studio. \n\n\n\nOvernight guests welcome (with advance notice). Let us know if you want to make a longer visit to WildHeart… email contact@wildheartcenter.art \n\n\n\nFacilitator: TBD \n\n\n\nWeeks that we’re not Jamming @ WildHeart\, Hudson Valley Contact Improv continues in Kingston. Email Hudsonvalleycontactimprov@gmail.com for more on the Kingston Jam \n\n\n\nLocation- This workshop will take place in the Barn. If you’re coming to WildHeart for the first time\, please visit our Directions page for arrival info. Refund policy No refunds\, no transfers
URL:https://www.wildheartcenter.art/event/contact-improv-sundays-20260301/
CATEGORIES:Classes & Events
ATTACH;FMTTYPE=image/jpeg:https://www.wildheartcenter.art/wp-content/uploads/2022/05/Contact-Improvisation-Wildheart-scaled.jpg
END:VEVENT
END:VCALENDAR