BEGIN:VCALENDAR
VERSION:2.0
PRODID:-//WildHeart - ECPv6.15.20//NONSGML v1.0//EN
CALSCALE:GREGORIAN
METHOD:PUBLISH
X-ORIGINAL-URL:https://www.wildheartcenter.art
X-WR-CALDESC:Events for WildHeart
REFRESH-INTERVAL;VALUE=DURATION:PT1H
X-Robots-Tag:noindex
X-PUBLISHED-TTL:PT1H
BEGIN:VTIMEZONE
TZID:America/New_York
BEGIN:DAYLIGHT
TZOFFSETFROM:-0500
TZOFFSETTO:-0400
TZNAME:EDT
DTSTART:20240310T070000
END:DAYLIGHT
BEGIN:STANDARD
TZOFFSETFROM:-0400
TZOFFSETTO:-0500
TZNAME:EST
DTSTART:20241103T060000
END:STANDARD
BEGIN:DAYLIGHT
TZOFFSETFROM:-0500
TZOFFSETTO:-0400
TZNAME:EDT
DTSTART:20250309T070000
END:DAYLIGHT
BEGIN:STANDARD
TZOFFSETFROM:-0400
TZOFFSETTO:-0500
TZNAME:EST
DTSTART:20251102T060000
END:STANDARD
BEGIN:DAYLIGHT
TZOFFSETFROM:-0500
TZOFFSETTO:-0400
TZNAME:EDT
DTSTART:20260308T070000
END:DAYLIGHT
BEGIN:STANDARD
TZOFFSETFROM:-0400
TZOFFSETTO:-0500
TZNAME:EST
DTSTART:20261101T060000
END:STANDARD
END:VTIMEZONE
BEGIN:VEVENT
DTSTART;TZID=America/New_York:20250526T180000
DTEND;TZID=America/New_York:20250526T193000
DTSTAMP:20260420T160759
CREATED:20250304T200016Z
LAST-MODIFIED:20250314T020618Z
UID:10000295-1748282400-1748287800@www.wildheartcenter.art
SUMMARY:Vocal Tapestry: Spring Class Series
DESCRIPTION:
URL:https://www.wildheartcenter.art/event/vocal-tapestry-spring-class-series/2025-05-26/
CATEGORIES:Classes & Events
ATTACH;FMTTYPE=image/jpeg:https://www.wildheartcenter.art/wp-content/uploads/2025/03/Paris-CircleSongs-Arms-Raised-Eyes-Open.jpg
END:VEVENT
BEGIN:VEVENT
DTSTART;TZID=America/New_York:20250529T130000
DTEND;TZID=America/New_York:20250601T160000
DTSTAMP:20260420T160759
CREATED:20250322T031855Z
LAST-MODIFIED:20250322T031908Z
UID:10000080-1748523600-1748793600@www.wildheartcenter.art
SUMMARY:Touching Fat: Sensual Somatics for Fat People
DESCRIPTION:Facilitated by Jules Pashall and Scarlet Tunkl\, this retreat will explore and celebrate the magic of being present and embodied with fatness in community with other fat folx. We will use touch\, movement\, noise making and creative play to experience the sensuality inherent in our fat tissue. This retreat will uplift fatness as more than just a descriptor of bodies\, but as an energy and access point to sensual presence. Each activity will pull inspiration from the formal qualities of fat: soft\, lush\, velvety\, deep\, full\, whole. This retreat will have a special focus on touch so that we can learn new things about how we like to be loved\, touched and tended.
URL:https://www.wildheartcenter.art/event/touching-fat-sensual-somatics-for-fat-people/
CATEGORIES:Retreats
ATTACH;FMTTYPE=image/jpeg:https://www.wildheartcenter.art/wp-content/uploads/2024/01/lush-and-whole-retreat-photo-2.jpg
END:VEVENT
BEGIN:VEVENT
DTSTART;TZID=America/New_York:20250529T180000
DTEND;TZID=America/New_York:20250529T193000
DTSTAMP:20260420T160759
CREATED:20250228T214141Z
LAST-MODIFIED:20250228T214223Z
UID:10000286-1748541600-1748547000@www.wildheartcenter.art
SUMMARY:Deep Listening Series
DESCRIPTION:
URL:https://www.wildheartcenter.art/event/deep-listening-series/2025-05-29/
CATEGORIES:Classes & Events
ATTACH;FMTTYPE=image/jpeg:https://www.wildheartcenter.art/wp-content/uploads/2025/02/Katie-Jane-Deep-Listening.jpg
END:VEVENT
BEGIN:VEVENT
DTSTART;TZID=America/New_York:20250601T160000
DTEND;TZID=America/New_York:20250601T183000
DTSTAMP:20260420T160759
CREATED:20230202T231006Z
LAST-MODIFIED:20250529T205734Z
UID:10000160-1748793600-1748802600@www.wildheartcenter.art
SUMMARY:Contact Improv Sundays @ WildHeart
DESCRIPTION:Contact Improv Sundays @ WildHeart\n \n \nFirst and Third Sundays \nFacilitator: Lillian Kemanis \n  \n \n4:00-6:30pm (2nd and 4th Sundays in Kingston!) \n \nBYO dinner for a studio-floor picnic afterward \n \nCI Lab 4-5pm  \n \nOpen Jam 5-6:30pm \n \nRegister in advance \n  \nBio: \nLillian Kemanis is a registered Somatic Movement Educator + Therapist\, dancer\, yogi\, and artist who offers support to individuals seeking a holistic and alternative approach to navigating life’s challenges. With over 10 years of professional experience in the movement healing arts\, Lillian supports her community through personalized 1:1 Somatic Therapy sessions\, immersive group workshops\, and accessible online education. Her sessions prioritize body awareness as the primary pathway to address underlying emotional\, mental\, and physical needs\, following a “bottom-up” therapeutic approach. Her methods facilitate the development of internal self-awareness and mind-body integration\, helping clients restore a deep sense of connection to their vitality. \n  \n  \nOr if you prefer to pay cash at the door\, send us an email to let us know you’re coming\, so we can help you find your way to the studio. \n \nOvernight guests welcome (with advance notice). Let us know if you want to make a longer visit to WildHeart… email contact@wildheartcenter.art \n \n \nWeeks that we’re not Jamming @ WildHeart\, Hudson Valley Contact Improv continues in Kingston. Email Hudsonvalleycontactimprov@gmail.com for more on the Kingston Jam \n \nLocation- This workshop will take place in the Barn. If you’re coming to WildHeart for the first time\, please visit our Directions page for arrival info. \n \n \n \n\n \n \n \n 
URL:https://www.wildheartcenter.art/event/contact-improv-sundays-2025-06-01/
CATEGORIES:Classes & Events
ATTACH;FMTTYPE=image/jpeg:https://www.wildheartcenter.art/wp-content/uploads/2022/05/Contact-Improvisation-Wildheart-scaled.jpg
END:VEVENT
BEGIN:VEVENT
DTSTART;TZID=America/New_York:20250601T160000
DTEND;TZID=America/New_York:20250601T183000
DTSTAMP:20260420T160759
CREATED:20250905T145208Z
LAST-MODIFIED:20251227T105328Z
UID:10000132-1748793600-1748802600@www.wildheartcenter.art
SUMMARY:Contact Improv Sundays @ WildHeart
DESCRIPTION:Contact Improv Sundays @ WildHeart \n\n\n\n  \n\n\n\nFirst and Third Sundays \n\n\n\n4:00-6:30pm (2nd and 4th Sundays in Kingston!) \n\n\n\nBYO dinner for a studio-floor picnic afterward \n\n\n\nCI Lab 4-5pm (with rotating teachers) \n\n\n\nOpen Jam 5-6:30pm \n\n\n\nRegister in advance \n\n\n\nOr if you prefer to pay cash at the door\, send us an email to let us know you’re coming\, so we can help you find your way to the studio. \n\n\n\nOvernight guests welcome (with advance notice). Let us know if you want to make a longer visit to WildHeart… email contact@wildheartcenter.art \n\n\n\n  \n\n\n\nWeeks that we’re not Jamming @ WildHeart\, Hudson Valley Contact Improv continues in Kingston. Email Hudsonvalleycontactimprov@gmail.com for more on the Kingston Jam \n\n\n\nLocation- This workshop will take place in the Barn. If you’re coming to WildHeart for the first time\, please visit our Directions page for arrival info. Refund policy No refunds\, no transfers
URL:https://www.wildheartcenter.art/event/contact-improv-1st-sundays/2025-06-01/
CATEGORIES:Classes & Events
ATTACH;FMTTYPE=image/jpeg:https://www.wildheartcenter.art/wp-content/uploads/2022/05/Contact-Improvisation-Wildheart-scaled.jpg
END:VEVENT
END:VCALENDAR