BEGIN:VCALENDAR
VERSION:2.0
PRODID:-//WildHeart - ECPv6.15.20//NONSGML v1.0//EN
CALSCALE:GREGORIAN
METHOD:PUBLISH
X-WR-CALNAME:WildHeart
X-ORIGINAL-URL:https://www.wildheartcenter.art
X-WR-CALDESC:Events for WildHeart
REFRESH-INTERVAL;VALUE=DURATION:PT1H
X-Robots-Tag:noindex
X-PUBLISHED-TTL:PT1H
BEGIN:VTIMEZONE
TZID:America/New_York
BEGIN:DAYLIGHT
TZOFFSETFROM:-0500
TZOFFSETTO:-0400
TZNAME:EDT
DTSTART:20240310T070000
END:DAYLIGHT
BEGIN:STANDARD
TZOFFSETFROM:-0400
TZOFFSETTO:-0500
TZNAME:EST
DTSTART:20241103T060000
END:STANDARD
BEGIN:DAYLIGHT
TZOFFSETFROM:-0500
TZOFFSETTO:-0400
TZNAME:EDT
DTSTART:20250309T070000
END:DAYLIGHT
BEGIN:STANDARD
TZOFFSETFROM:-0400
TZOFFSETTO:-0500
TZNAME:EST
DTSTART:20251102T060000
END:STANDARD
BEGIN:DAYLIGHT
TZOFFSETFROM:-0500
TZOFFSETTO:-0400
TZNAME:EDT
DTSTART:20260308T070000
END:DAYLIGHT
BEGIN:STANDARD
TZOFFSETFROM:-0400
TZOFFSETTO:-0500
TZNAME:EST
DTSTART:20261101T060000
END:STANDARD
END:VTIMEZONE
BEGIN:VEVENT
DTSTART;TZID=America/New_York:20250307T160000
DTEND;TZID=America/New_York:20250317T110000
DTSTAMP:20260421T152441
CREATED:20240601T165451Z
LAST-MODIFIED:20240708T030047Z
UID:10000193-1741363200-1742209200@www.wildheartcenter.art
SUMMARY:Somatic Movement Education Program - Nervous System Module
DESCRIPTION:NERVOUS SYSTEM 3/7 – 3/17/25 (days off 3/11 & 3/12)Arrivals\, orientation and welcome dinner 3/7/25. Morning Departures 3/17 (day off if you’re staying for Endocrine) \n\n\n\nExperience first occurs on the cellular level. The nervous system is the recording system of the body. It records our experiences and organizes them into patterns. It can then recall the experience and modify it by integrating it with patterns of other systems and previous experiences. The nervous system is the last to know\, but\, once knowing\, it becomes a major control center of psychophysical processes. It can initiate the learning of new experience through creativity and play. The nervous system underlies alertness\, thought\, and precision of coordination and establishes the perceptual base from which we view and interact with our internal and external worlds.
URL:https://www.wildheartcenter.art/event/somatic-movement-education-program-nervous-system-module/
LOCATION:Wildheart\, 183 East Road\, Wallkill\, NY\, 05156\, United States
CATEGORIES:Retreats
ATTACH;FMTTYPE=image/jpeg:https://www.wildheartcenter.art/wp-content/uploads/2024/05/Main-image.jpg
END:VEVENT
BEGIN:VEVENT
DTSTART;TZID=America/New_York:20250316T160000
DTEND;TZID=America/New_York:20250316T183000
DTSTAMP:20260421T152441
CREATED:20251227T105125Z
LAST-MODIFIED:20251227T122537Z
UID:10000851-1742140800-1742149800@www.wildheartcenter.art
SUMMARY:Contact Improv Sundays @ WildHeart
DESCRIPTION:Contact Improv Sundays @ WildHeart \n\n\n\n  \n\n\n\nFirst and Third Sundays \n\n\n\n4:00-6:30pm (2nd and 4th Sundays in Kingston!) \n\n\n\nBYO dinner for a studio-floor picnic afterward \n\n\n\nCI Lab 4-5pm (with rotating teachers) \n\n\n\nOpen Jam 5-6:30pm \n\n\n\nRegister in advance \n\n\n\nOr if you prefer to pay cash at the door\, send us an email to let us know you’re coming\, so we can help you find your way to the studio. \n\n\n\nOvernight guests welcome (with advance notice). Let us know if you want to make a longer visit to WildHeart… email contact@wildheartcenter.art \n\n\n\n  \n\n\n\nWeeks that we’re not Jamming @ WildHeart\, Hudson Valley Contact Improv continues in Kingston. Email Hudsonvalleycontactimprov@gmail.com for more on the Kingston Jam \n\n\n\nLocation- This workshop will take place in the Barn. If you’re coming to WildHeart for the first time\, please visit our Directions page for arrival info. Refund policy No refunds\, no transfers
URL:https://www.wildheartcenter.art/event/contact-improv-3rd-sundays/2025-03-16/
CATEGORIES:Classes & Events
ATTACH;FMTTYPE=image/jpeg:https://www.wildheartcenter.art/wp-content/uploads/2022/05/Contact-Improvisation-Wildheart-scaled.jpg
END:VEVENT
BEGIN:VEVENT
DTSTART;TZID=America/New_York:20250316T170000
DTEND;TZID=America/New_York:20250316T193000
DTSTAMP:20260421T152441
CREATED:20230202T231006Z
LAST-MODIFIED:20250306T225948Z
UID:10000081-1742144400-1742153400@www.wildheartcenter.art
SUMMARY:5pm (just for today)- Contact Improv Sundays @ WildHeart
DESCRIPTION:Contact Improv Sundays @ WildHeart \n\n\n\n \n\n\n\nFirst and Third Sundays \n\n\n\n5:00-7:30pm (2nd and 4th Sundays in Kingston!) – Later timing only for today \n\n\n\nBYO dinner for a studio-floor picnic afterward \n\n\n\nCI Lab 5-6pm (with rotating teachers) \n\n\n\nOpen Jam 6-7:30pm \n\n\n\nRegister in advance \n\n\n\nOr if you prefer to pay cash at the door\, send us an email to let us know you’re coming\, so we can help you find your way to the studio. \n\n\n\nOvernight guests welcome (with advance notice). Let us know if you want to make a longer visit to WildHeart… email contact@wildheartcenter.art \n\n\n\n \n\n\n\nWeeks that we’re not Jamming @ WildHeart\, Hudson Valley Contact Improv continues in Kingston. Email Hudsonvalleycontactimprov@gmail.com for more on the Kingston Jam \n\n\n\nLocation- This workshop will take place in the Barn. If you’re coming to WildHeart for the first time\, please visit our Directions page for arrival info.
URL:https://www.wildheartcenter.art/event/contact-improv-sundays-2025-03-16/
CATEGORIES:Classes & Events
ATTACH;FMTTYPE=image/jpeg:https://www.wildheartcenter.art/wp-content/uploads/2022/05/Contact-Improvisation-Wildheart-scaled.jpg
END:VEVENT
END:VCALENDAR