BEGIN:VCALENDAR
VERSION:2.0
PRODID:-//WildHeart - ECPv6.15.20//NONSGML v1.0//EN
CALSCALE:GREGORIAN
METHOD:PUBLISH
X-WR-CALNAME:WildHeart
X-ORIGINAL-URL:https://www.wildheartcenter.art
X-WR-CALDESC:Events for WildHeart
REFRESH-INTERVAL;VALUE=DURATION:PT1H
X-Robots-Tag:noindex
X-PUBLISHED-TTL:PT1H
BEGIN:VTIMEZONE
TZID:America/New_York
BEGIN:DAYLIGHT
TZOFFSETFROM:-0500
TZOFFSETTO:-0400
TZNAME:EDT
DTSTART:20230312T070000
END:DAYLIGHT
BEGIN:STANDARD
TZOFFSETFROM:-0400
TZOFFSETTO:-0500
TZNAME:EST
DTSTART:20231105T060000
END:STANDARD
BEGIN:DAYLIGHT
TZOFFSETFROM:-0500
TZOFFSETTO:-0400
TZNAME:EDT
DTSTART:20240310T070000
END:DAYLIGHT
BEGIN:STANDARD
TZOFFSETFROM:-0400
TZOFFSETTO:-0500
TZNAME:EST
DTSTART:20241103T060000
END:STANDARD
BEGIN:DAYLIGHT
TZOFFSETFROM:-0500
TZOFFSETTO:-0400
TZNAME:EDT
DTSTART:20250309T070000
END:DAYLIGHT
BEGIN:STANDARD
TZOFFSETFROM:-0400
TZOFFSETTO:-0500
TZNAME:EST
DTSTART:20251102T060000
END:STANDARD
END:VTIMEZONE
BEGIN:VEVENT
DTSTART;TZID=America/New_York:20241111T190000
DTEND;TZID=America/New_York:20241111T200000
DTSTAMP:20260422T113702
CREATED:20241014T033351Z
LAST-MODIFIED:20241204T130435Z
UID:10000017-1731351600-1731355200@www.wildheartcenter.art
SUMMARY:Vocal Tapestry: Fall Class Series
DESCRIPTION:Connect to your creative spirit. Trust the flow of your imagination through vocal improvisation. Dive into the unique expression of your voice while thrilling your soul in a thriving community. This class series will teach you to tap into your creative essence through the building blocks of improvisation.  \n\n\n\nVocal Tapestry is a safe and fun space to weave together principles of spontaneous composition\, such as rhythm\, melody\, and dynamics. Each week\, we will play games and learn practices that focus on a specific element of vocal improvisation to develop your awareness\, skills\, and confidence.  \n\n\n\nSign up for the entire 8 week series\, or drop in for individual classes. \n\n\n\nOctober 28 – Vocal Tapestry: MelodyNovember 4 – Vocal Tapestry: RhythmNovember 11 – Vocal Tapestry: HarmonyNovember 18 – Vocal Tapestry: Language + WordplayNovember 25 – Vocal Tapestry: DynamicsDecember 2 – Vocal Tapestry: SongcatchingDecember 9 – Vocal Tapestry: CirclesingingDecember 16 – Vocal Tapestry: Weaving the Tapestry
URL:https://www.wildheartcenter.art/event/vocal-tapestry-fall-class-series/2024-11-11/
CATEGORIES:Classes & Events
ATTACH;FMTTYPE=image/jpeg:https://www.wildheartcenter.art/wp-content/uploads/2024/10/VT-Paris-Pink-Group-Pic-e1728877185381.jpg
END:VEVENT
BEGIN:VEVENT
DTSTART;TZID=America/New_York:20241116T150000
DTEND;TZID=America/New_York:20241116T210000
DTSTAMP:20260422T113702
CREATED:20241019T155922Z
LAST-MODIFIED:20241114T232441Z
UID:10000033-1731769200-1731790800@www.wildheartcenter.art
SUMMARY:Loom Song Performance & Workshop
DESCRIPTION:Get Tickets\n\n\n\n\nWorkshop\n\n\n\nAt this 3 hour workshop session\, explore the creative process with Loom Song through voice\, rhythm\, and movement-based practices for vocal composition and improvisation\, drawing from their backgrounds in folk\, world music\, music theater and contemporary music.   \n\n\n\nBest suited for confident singers: no advanced expertise required\, but please come expecting “mid-level nerdery”\, as we engage with some of the musical complexity that enlivens our music. \n\n\n\nPerformance\n\n\n\nLoom Song is a vocal trio exploring the boundaries of the human voice and the intersections between composition and improvisation. Sasha\, Onome and Raffles are Loom Song\, who collectively come from a wide variety of musical backgrounds consisting of contemporary music\, world music\, folk\, jazz\, choral music\, and music theater; all which figure prominently in forming their unique sound and approach to singing. Loom Song’s current repertoire consists of compositions by its members\, new improvisational structures\, and original arrangements of folk\, jazz\, classical and world music. The concert is more than an hour of vocal pyrotechnics\, and brain-bending complexity\, infused with warm\, invitational opportunities to join in and sing along. \n\n\n\nSchedule & Cost\n\n\n\n$35 3-6pm Workshop6-7:30pm Potluck Dinner$25 7:30-9pm Concert$50 combo price for the whole shebangNo one turned away! Please do not be deterred by $$$ — please come and offer any contribution you feel moved to offer. \n\n\n\n \n\n\n\n\n\n\n\n \n\n\n\n\n\nArtist Bios\n\n\n\n\n\n\n\nSasha Bogdanowitsch is a composer\, vocalist\, multi-instrumentalist and educator\, whose work includes music for theater\, dance and film\, interdisciplinary performance\, concert music and original songs. His compositional output is heavily influenced by his studies of world\, folk\, early and contemporary music. Sasha has performed worldwide and throughout the New York area in venues such as: Carnegie Hall\, Whitney Museum\, Symphony Space\, BAM and Roulette. ‘’…winning authenticity.” NY Timeswww.timbretree.comhttps://sashabogdanowitsch.bandcamp.com/ \n\n\n\n\n\n\n\nOnome is a vocalist\, improviser\, and interdisciplinary sound artist who leads experiences at the intersection of voice\, creativity\, and mindfulness – for a wide variety of audiences internationally at colleges\, corporations\, concerts\, cultural centers\, and retreats. She has partnered with numerous organizations as an artist-in-residence\, teacher\, and mentor\, including the United Nations\, Carnegie Hall\, Música do Círculo\, Grace Episcopal Church\, and Bobby McFerrin’s CircleSongs retreat.www.onome.org \n\n\n\n\n\n\n\nRaffles is a singer\, dancer and theater maker\, born and raised in NYC.Co-Director of Loom Ensemble (2010) and Co-Founder of WildHeart (2022)Internationally\, they’ve performed with the English National Opera in London; Loom Ensemble’s annual performance season in Dubai\, three summers with Theater Slava in Stockholm\, and with the Art Monastery Project at dozens of venues in Italy\, Belgium\, Sweden and Berlin. NYC highlights include Lincoln Center with Urban Research Theatre\, New York Philharmonic with Constellation Chor\, BAM with Meredith Monk\, and La MaMa with Loom. www.raphaelsacks.com
URL:https://www.wildheartcenter.art/event/loom-song-performance-workshop/
CATEGORIES:Classes & Events
ATTACH;FMTTYPE=image/jpeg:https://www.wildheartcenter.art/wp-content/uploads/2024/10/IMG_1337-e1729352867220.jpg
END:VEVENT
BEGIN:VEVENT
DTSTART;TZID=America/New_York:20241117T160000
DTEND;TZID=America/New_York:20241117T183000
DTSTAMP:20260422T113702
CREATED:20251227T105125Z
LAST-MODIFIED:20251227T122537Z
UID:10000847-1731859200-1731868200@www.wildheartcenter.art
SUMMARY:Contact Improv Sundays @ WildHeart
DESCRIPTION:Contact Improv Sundays @ WildHeart \n\n\n\n  \n\n\n\nFirst and Third Sundays \n\n\n\n4:00-6:30pm (2nd and 4th Sundays in Kingston!) \n\n\n\nBYO dinner for a studio-floor picnic afterward \n\n\n\nCI Lab 4-5pm (with rotating teachers) \n\n\n\nOpen Jam 5-6:30pm \n\n\n\nRegister in advance \n\n\n\nOr if you prefer to pay cash at the door\, send us an email to let us know you’re coming\, so we can help you find your way to the studio. \n\n\n\nOvernight guests welcome (with advance notice). Let us know if you want to make a longer visit to WildHeart… email contact@wildheartcenter.art \n\n\n\n  \n\n\n\nWeeks that we’re not Jamming @ WildHeart\, Hudson Valley Contact Improv continues in Kingston. Email Hudsonvalleycontactimprov@gmail.com for more on the Kingston Jam \n\n\n\nLocation- This workshop will take place in the Barn. If you’re coming to WildHeart for the first time\, please visit our Directions page for arrival info. Refund policy No refunds\, no transfers
URL:https://www.wildheartcenter.art/event/contact-improv-3rd-sundays/2024-11-17/
CATEGORIES:Classes & Events
ATTACH;FMTTYPE=image/jpeg:https://www.wildheartcenter.art/wp-content/uploads/2022/05/Contact-Improvisation-Wildheart-scaled.jpg
END:VEVENT
END:VCALENDAR