BEGIN:VCALENDAR
VERSION:2.0
PRODID:-//WildHeart - ECPv6.15.20//NONSGML v1.0//EN
CALSCALE:GREGORIAN
METHOD:PUBLISH
X-WR-CALNAME:WildHeart
X-ORIGINAL-URL:https://www.wildheartcenter.art
X-WR-CALDESC:Events for WildHeart
REFRESH-INTERVAL;VALUE=DURATION:PT1H
X-Robots-Tag:noindex
X-PUBLISHED-TTL:PT1H
BEGIN:VTIMEZONE
TZID:America/New_York
BEGIN:DAYLIGHT
TZOFFSETFROM:-0500
TZOFFSETTO:-0400
TZNAME:EDT
DTSTART:20230312T070000
END:DAYLIGHT
BEGIN:STANDARD
TZOFFSETFROM:-0400
TZOFFSETTO:-0500
TZNAME:EST
DTSTART:20231105T060000
END:STANDARD
BEGIN:DAYLIGHT
TZOFFSETFROM:-0500
TZOFFSETTO:-0400
TZNAME:EDT
DTSTART:20240310T070000
END:DAYLIGHT
BEGIN:STANDARD
TZOFFSETFROM:-0400
TZOFFSETTO:-0500
TZNAME:EST
DTSTART:20241103T060000
END:STANDARD
BEGIN:DAYLIGHT
TZOFFSETFROM:-0500
TZOFFSETTO:-0400
TZNAME:EDT
DTSTART:20250309T070000
END:DAYLIGHT
BEGIN:STANDARD
TZOFFSETFROM:-0400
TZOFFSETTO:-0500
TZNAME:EST
DTSTART:20251102T060000
END:STANDARD
END:VTIMEZONE
BEGIN:VEVENT
DTSTART;TZID=America/New_York:20241104T190000
DTEND;TZID=America/New_York:20241104T200000
DTSTAMP:20260420T105506
CREATED:20241014T033351Z
LAST-MODIFIED:20241204T130435Z
UID:10000016-1730746800-1730750400@www.wildheartcenter.art
SUMMARY:Vocal Tapestry: Fall Class Series
DESCRIPTION:Connect to your creative spirit. Trust the flow of your imagination through vocal improvisation. Dive into the unique expression of your voice while thrilling your soul in a thriving community. This class series will teach you to tap into your creative essence through the building blocks of improvisation.  \n\n\n\nVocal Tapestry is a safe and fun space to weave together principles of spontaneous composition\, such as rhythm\, melody\, and dynamics. Each week\, we will play games and learn practices that focus on a specific element of vocal improvisation to develop your awareness\, skills\, and confidence.  \n\n\n\nSign up for the entire 8 week series\, or drop in for individual classes. \n\n\n\nOctober 28 – Vocal Tapestry: MelodyNovember 4 – Vocal Tapestry: RhythmNovember 11 – Vocal Tapestry: HarmonyNovember 18 – Vocal Tapestry: Language + WordplayNovember 25 – Vocal Tapestry: DynamicsDecember 2 – Vocal Tapestry: SongcatchingDecember 9 – Vocal Tapestry: CirclesingingDecember 16 – Vocal Tapestry: Weaving the Tapestry
URL:https://www.wildheartcenter.art/event/vocal-tapestry-fall-class-series/2024-11-04/
CATEGORIES:Classes & Events
ATTACH;FMTTYPE=image/jpeg:https://www.wildheartcenter.art/wp-content/uploads/2024/10/VT-Paris-Pink-Group-Pic-e1728877185381.jpg
END:VEVENT
BEGIN:VEVENT
DTSTART;TZID=America/New_York:20241108T140000
DTEND;TZID=America/New_York:20241110T160000
DTSTAMP:20260420T105506
CREATED:20241006T213238Z
LAST-MODIFIED:20241006T214510Z
UID:10000208-1731074400-1731254400@www.wildheartcenter.art
SUMMARY:Physical Theater Training
DESCRIPTION:
URL:https://www.wildheartcenter.art/event/physical-theater-training/2024-11-08/
LOCATION:Wildheart\, 183 East Road\, Wallkill\, NY\, 05156\, United States
CATEGORIES:Retreats
ATTACH;FMTTYPE=image/jpeg:https://www.wildheartcenter.art/wp-content/uploads/2024/10/2.skidmore-2016_.jpg
END:VEVENT
BEGIN:VEVENT
DTSTART;TZID=America/New_York:20241110T163000
DTEND;TZID=America/New_York:20241110T173000
DTSTAMP:20260420T105506
CREATED:20241024T040334Z
LAST-MODIFIED:20251206T152154Z
UID:10000764-1731256200-1731259800@www.wildheartcenter.art
SUMMARY:Shake with Niki
DESCRIPTION:Shake with Niki (in-person only) \n\n\n\n4:30 – 5:30pm Second Sunday of every month\, starting November 10th (60-75 mins) \n\n\n\nGroup Shake – A somatic movement practice during which we will shake to music or sometimes\, silence. Shaking\, individually but as part of a group to ground us\, can be healing as it is a natural way to relieve tension. You may choose to shake standing\, seated\, lying down or alternating between those depending on what your body needs in the moment. You can choose your own intensity\, when to stop or when to keep going as you listen to your own body. While it is important to keep ourselves open to what\, if anything\, may arise emotionally\, please only engage to the degree that you can still care for yourself. This is not a therapeutic space. The practice will start with a demonstration and it will end in silence. Dress comfortably and stay hydrated! \n\n\n\n$10-$25
URL:https://www.wildheartcenter.art/event/shake-with-niki/2024-11-10/
CATEGORIES:Classes & Events
ATTACH;FMTTYPE=image/jpeg:https://www.wildheartcenter.art/wp-content/uploads/2024/10/20240608__0354-5.jpg
END:VEVENT
END:VCALENDAR