BEGIN:VCALENDAR
VERSION:2.0
PRODID:-//WildHeart - ECPv6.15.20//NONSGML v1.0//EN
CALSCALE:GREGORIAN
METHOD:PUBLISH
X-ORIGINAL-URL:https://www.wildheartcenter.art
X-WR-CALDESC:Events for WildHeart
REFRESH-INTERVAL;VALUE=DURATION:PT1H
X-Robots-Tag:noindex
X-PUBLISHED-TTL:PT1H
BEGIN:VTIMEZONE
TZID:America/New_York
BEGIN:DAYLIGHT
TZOFFSETFROM:-0500
TZOFFSETTO:-0400
TZNAME:EDT
DTSTART:20230312T070000
END:DAYLIGHT
BEGIN:STANDARD
TZOFFSETFROM:-0400
TZOFFSETTO:-0500
TZNAME:EST
DTSTART:20231105T060000
END:STANDARD
BEGIN:DAYLIGHT
TZOFFSETFROM:-0500
TZOFFSETTO:-0400
TZNAME:EDT
DTSTART:20240310T070000
END:DAYLIGHT
BEGIN:STANDARD
TZOFFSETFROM:-0400
TZOFFSETTO:-0500
TZNAME:EST
DTSTART:20241103T060000
END:STANDARD
BEGIN:DAYLIGHT
TZOFFSETFROM:-0500
TZOFFSETTO:-0400
TZNAME:EDT
DTSTART:20250309T070000
END:DAYLIGHT
BEGIN:STANDARD
TZOFFSETFROM:-0400
TZOFFSETTO:-0500
TZNAME:EST
DTSTART:20251102T060000
END:STANDARD
END:VTIMEZONE
BEGIN:VEVENT
DTSTART;TZID=America/New_York:20240816T140000
DTEND;TZID=America/New_York:20240818T160000
DTSTAMP:20260421T211934
CREATED:20240614T043808Z
LAST-MODIFIED:20240614T043859Z
UID:10000196-1723816800-1723996800@www.wildheartcenter.art
SUMMARY:Vocal Tapestry Retreat
DESCRIPTION:Your voice is a valuable thread to the fabric of humanity. At the VOCAL TAPESTRY RETREAT\, you’ll get to share the music that lives in you\, and weave in vocal improvisation practices to add to your treasure trove of self-discovery and creative fulfillment.I’ll share techniques that I have synthesized from my studies with Bobby McFerrin\, Rhiannon\, Meredith Monk\, Música do Círculo\, theater improv\, folk music\, hip-hop freestyle\, sound healing\, archetypes\, chakras\, somatic experiencing\, and mindfulness practices.Immerse yourself in the frequency of your most expansive self\, through the voice. \n\n\n\nFacilitated by: Onome
URL:https://www.wildheartcenter.art/event/vocal-tapestry/
LOCATION:Wildheart\, 183 East Road\, Wallkill\, NY\, 05156\, United States
CATEGORIES:Retreats
ATTACH;FMTTYPE=image/jpeg:https://www.wildheartcenter.art/wp-content/uploads/2024/03/Onome_07_2017_SabadoCircular_0263.jpg
END:VEVENT
BEGIN:VEVENT
DTSTART;TZID=America/New_York:20240818T160000
DTEND;TZID=America/New_York:20240818T183000
DTSTAMP:20260421T211934
CREATED:20251227T105125Z
LAST-MODIFIED:20251227T122537Z
UID:10000844-1723996800-1724005800@www.wildheartcenter.art
SUMMARY:Contact Improv Sundays @ WildHeart
DESCRIPTION:Contact Improv Sundays @ WildHeart \n\n\n\n  \n\n\n\nFirst and Third Sundays \n\n\n\n4:00-6:30pm (2nd and 4th Sundays in Kingston!) \n\n\n\nBYO dinner for a studio-floor picnic afterward \n\n\n\nCI Lab 4-5pm (with rotating teachers) \n\n\n\nOpen Jam 5-6:30pm \n\n\n\nRegister in advance \n\n\n\nOr if you prefer to pay cash at the door\, send us an email to let us know you’re coming\, so we can help you find your way to the studio. \n\n\n\nOvernight guests welcome (with advance notice). Let us know if you want to make a longer visit to WildHeart… email contact@wildheartcenter.art \n\n\n\n  \n\n\n\nWeeks that we’re not Jamming @ WildHeart\, Hudson Valley Contact Improv continues in Kingston. Email Hudsonvalleycontactimprov@gmail.com for more on the Kingston Jam \n\n\n\nLocation- This workshop will take place in the Barn. If you’re coming to WildHeart for the first time\, please visit our Directions page for arrival info. Refund policy No refunds\, no transfers
URL:https://www.wildheartcenter.art/event/contact-improv-3rd-sundays/2024-08-18/
CATEGORIES:Classes & Events
ATTACH;FMTTYPE=image/jpeg:https://www.wildheartcenter.art/wp-content/uploads/2022/05/Contact-Improvisation-Wildheart-scaled.jpg
END:VEVENT
END:VCALENDAR