BEGIN:VCALENDAR
VERSION:2.0
PRODID:-//WildHeart - ECPv6.15.20//NONSGML v1.0//EN
CALSCALE:GREGORIAN
METHOD:PUBLISH
X-ORIGINAL-URL:https://www.wildheartcenter.art
X-WR-CALDESC:Events for WildHeart
REFRESH-INTERVAL;VALUE=DURATION:PT1H
X-Robots-Tag:noindex
X-PUBLISHED-TTL:PT1H
BEGIN:VTIMEZONE
TZID:America/New_York
BEGIN:DAYLIGHT
TZOFFSETFROM:-0500
TZOFFSETTO:-0400
TZNAME:EDT
DTSTART:20230312T070000
END:DAYLIGHT
BEGIN:STANDARD
TZOFFSETFROM:-0400
TZOFFSETTO:-0500
TZNAME:EST
DTSTART:20231105T060000
END:STANDARD
BEGIN:DAYLIGHT
TZOFFSETFROM:-0500
TZOFFSETTO:-0400
TZNAME:EDT
DTSTART:20240310T070000
END:DAYLIGHT
BEGIN:STANDARD
TZOFFSETFROM:-0400
TZOFFSETTO:-0500
TZNAME:EST
DTSTART:20241103T060000
END:STANDARD
BEGIN:DAYLIGHT
TZOFFSETFROM:-0500
TZOFFSETTO:-0400
TZNAME:EDT
DTSTART:20250309T070000
END:DAYLIGHT
BEGIN:STANDARD
TZOFFSETFROM:-0400
TZOFFSETTO:-0500
TZNAME:EST
DTSTART:20251102T060000
END:STANDARD
END:VTIMEZONE
BEGIN:VEVENT
DTSTART;TZID=America/New_York:20240710T090000
DTEND;TZID=America/New_York:20240721T180000
DTSTAMP:20260421T121119
CREATED:20231104T023824Z
LAST-MODIFIED:20231106T033852Z
UID:10000062-1720602000-1721584800@www.wildheartcenter.art
SUMMARY:Infant Developmental Movement Education
DESCRIPTION:with Amy Matthews and Sarah Barnaby \n\n\n\nThe Infant Developmental Movement Educator program is a child-centered and relationship-centered approach to observing and facilitating infants\, and educating parents and caregivers about touch\, movement and handling in the first year of life. \n\n\n\nThis program is designed to train people to evaluate and facilitate normal development in infants using an embracing\, child-centered approach. \n\n\n\nIn this training\, participants will learn: \n\n\n\n\nthe layering of movement patterns that leads to typical ‘developmental milestones’\n\n\n\nhow to observe infants and see ‘normal movement pattern’ development\n\n\n\nhow to hold and handle infants\, to support their movement experiences\n\n\n\nhow to identify ways to support infants who might be having movement difficulties\n\n\n\nhow to support parents and caregivers in learning new movement patterns with their infants\n\n\n\n\nMORE Info is available at https://www.sondermsma.com/idme
URL:https://www.wildheartcenter.art/event/infant-developmental-movement-education/
LOCATION:Wildheart\, 183 East Road\, Wallkill\, NY\, 05156\, United States
CATEGORIES:Retreats
ATTACH;FMTTYPE=image/jpeg:https://www.wildheartcenter.art/wp-content/uploads/2023/11/morebabies.jpg
END:VEVENT
END:VCALENDAR