BEGIN:VCALENDAR
VERSION:2.0
PRODID:-//WildHeart - ECPv6.15.20//NONSGML v1.0//EN
CALSCALE:GREGORIAN
METHOD:PUBLISH
X-ORIGINAL-URL:https://www.wildheartcenter.art
X-WR-CALDESC:Events for WildHeart
REFRESH-INTERVAL;VALUE=DURATION:PT1H
X-Robots-Tag:noindex
X-PUBLISHED-TTL:PT1H
BEGIN:VTIMEZONE
TZID:America/New_York
BEGIN:DAYLIGHT
TZOFFSETFROM:-0500
TZOFFSETTO:-0400
TZNAME:EDT
DTSTART:20230312T070000
END:DAYLIGHT
BEGIN:STANDARD
TZOFFSETFROM:-0400
TZOFFSETTO:-0500
TZNAME:EST
DTSTART:20231105T060000
END:STANDARD
BEGIN:DAYLIGHT
TZOFFSETFROM:-0500
TZOFFSETTO:-0400
TZNAME:EDT
DTSTART:20240310T070000
END:DAYLIGHT
BEGIN:STANDARD
TZOFFSETFROM:-0400
TZOFFSETTO:-0500
TZNAME:EST
DTSTART:20241103T060000
END:STANDARD
BEGIN:DAYLIGHT
TZOFFSETFROM:-0500
TZOFFSETTO:-0400
TZNAME:EDT
DTSTART:20250309T070000
END:DAYLIGHT
BEGIN:STANDARD
TZOFFSETFROM:-0400
TZOFFSETTO:-0500
TZNAME:EST
DTSTART:20251102T060000
END:STANDARD
END:VTIMEZONE
BEGIN:VEVENT
DTSTART;TZID=America/New_York:20240901T160000
DTEND;TZID=America/New_York:20240901T183000
DTSTAMP:20260421T135509
CREATED:20250905T145208Z
LAST-MODIFIED:20251227T105328Z
UID:10000123-1725206400-1725215400@www.wildheartcenter.art
SUMMARY:Contact Improv Sundays @ WildHeart
DESCRIPTION:Contact Improv Sundays @ WildHeart \n\n\n\n  \n\n\n\nFirst and Third Sundays \n\n\n\n4:00-6:30pm (2nd and 4th Sundays in Kingston!) \n\n\n\nBYO dinner for a studio-floor picnic afterward \n\n\n\nCI Lab 4-5pm (with rotating teachers) \n\n\n\nOpen Jam 5-6:30pm \n\n\n\nRegister in advance \n\n\n\nOr if you prefer to pay cash at the door\, send us an email to let us know you’re coming\, so we can help you find your way to the studio. \n\n\n\nOvernight guests welcome (with advance notice). Let us know if you want to make a longer visit to WildHeart… email contact@wildheartcenter.art \n\n\n\n  \n\n\n\nWeeks that we’re not Jamming @ WildHeart\, Hudson Valley Contact Improv continues in Kingston. Email Hudsonvalleycontactimprov@gmail.com for more on the Kingston Jam \n\n\n\nLocation- This workshop will take place in the Barn. If you’re coming to WildHeart for the first time\, please visit our Directions page for arrival info. Refund policy No refunds\, no transfers
URL:https://www.wildheartcenter.art/event/contact-improv-1st-sundays/2024-09-01/
CATEGORIES:Classes & Events
ATTACH;FMTTYPE=image/jpeg:https://www.wildheartcenter.art/wp-content/uploads/2022/05/Contact-Improvisation-Wildheart-scaled.jpg
END:VEVENT
BEGIN:VEVENT
DTSTART;TZID=America/New_York:20240905T180000
DTEND;TZID=America/New_York:20240905T200000
DTSTAMP:20260421T135509
CREATED:20240823T180424Z
LAST-MODIFIED:20240823T181353Z
UID:10000202-1725559200-1725566400@www.wildheartcenter.art
SUMMARY:Moving Together
DESCRIPTION:Cost: Sliding fee suggested at $15- $25  \n\n\n\nPayable by Venmo or cash \n\n\n\nNO ONE TURNED AWAY FOR LACK OF FUNDS \n\n\n\nTo reserve ahead\, Venmo @Courtney-Moreno-10 or email morenocourtney@gmail.com \n\n\n\nThursday\, August 15: Make A Dance \n\n\n\nChris Black (she/her) leads a warm-up\, then guides a collaborative and playful process of dance-making\, culminating in a short piece we will perform for ourselves. Emphasis on crafting movement as creative/theatrical expression versus technical training. \n\n\n\nThursday\, August 22: Riffing On A Phrase \n\n\n\nJerylann Warner (she/her) leads a contemporary-based warm-up followed by the introduction of a phrase to share\, including prompts to exercise creativity and individual style. \n\n\n\nThursday\, August 29: Floorwork & Inversions \n\n\n\nCourtney Moreno (she/they) leads an exploratory mix of improvisatory as well as taught phrases\, featuring floorwork and inversions\, to dive into techniques for landing softly and traveling smoothly. \n\n\n\nThursday\, September 5: Make Another Dance \n\n\n\nChris Black (she/her) leads a warm-up\, then guides a collaborative and playful process of dance-making\, culminating in a short piece we will perform for ourselves. Emphasis on crafting movement as creative/theatrical expression versus technical training. (Material\, prompts\, and structure will be different from and unrelated to August 8 class.) \n\n\n\nThursday\, September 12: Release Technique (or something like it) \n\n\n\nCourtney Moreno (she/her) leads a class designed to examine the weight of our limbs\, pelvis\, head\, and so on\, and connect the release of that weight to momentum and phrasework. \n\n\n\nThursday\, September 19: Beginning Ballet \n\n\n\nJordan Fleet (they/them) leads a slow warm-up introducing basic ballet techniques and positions. Ballet is strict but this class is about exploring the in-between moments of breath\, personal expression and connecting to the music you can find in between all of the rules. \n\n\n\nCost: Sliding fee suggested at $15- $25  \n\n\n\nPayable by Venmo or cash \n\n\n\nNO ONE TURNED AWAY FOR LACK OF FUNDS \n\n\n\nTo reserve ahead\, Venmo @Courtney-Moreno-10 or email morenocourtney@gmail.com
URL:https://www.wildheartcenter.art/event/moving-together/2024-09-05/
CATEGORIES:Classes & Events
ATTACH;FMTTYPE=image/jpeg:https://www.wildheartcenter.art/wp-content/uploads/2024/08/hand.jpg
END:VEVENT
BEGIN:VEVENT
DTSTART;TZID=America/New_York:20240906T160000
DTEND;TZID=America/New_York:20240916T110000
DTSTAMP:20260421T135509
CREATED:20240601T165546Z
LAST-MODIFIED:20240708T030409Z
UID:10000195-1725638400-1726484400@www.wildheartcenter.art
SUMMARY:Somatic Movement Education Program - Organs Module
DESCRIPTION:ORGANS 9/6 – 9/16/2024 (days off 9/11 & 9/12)Arrivals\, orientation and welcome dinner 9/6\, Morning departures 9/16 (day off if you’re staying for Ligaments and Fascia…) \n\n\n\nOur organs are vital and alive. They provide us with our sense of self\, full-bodiedness\, and organic authenticity. Organs are the contents within the skeletal-flesh container and carry on the functions of our internal survival — breathing\, nourishment and elimination. Organs are the primary habitats or natural environments of our emotions\, aspirations\, and the memories of our inner reactions to our personal and social histories. They support our postural tone and our feelings\, and give volume to our movement.
URL:https://www.wildheartcenter.art/event/somatic-movement-education-program-organs-module/
LOCATION:Wildheart\, 183 East Road\, Wallkill\, NY\, 05156\, United States
CATEGORIES:Retreats
ATTACH;FMTTYPE=image/jpeg:https://www.wildheartcenter.art/wp-content/uploads/2024/05/Main-image.jpg
END:VEVENT
BEGIN:VEVENT
DTSTART;TZID=America/New_York:20240912T180000
DTEND;TZID=America/New_York:20240912T200000
DTSTAMP:20260421T135509
CREATED:20240823T180424Z
LAST-MODIFIED:20240823T181353Z
UID:10000203-1726164000-1726171200@www.wildheartcenter.art
SUMMARY:Moving Together
DESCRIPTION:Cost: Sliding fee suggested at $15- $25  \n\n\n\nPayable by Venmo or cash \n\n\n\nNO ONE TURNED AWAY FOR LACK OF FUNDS \n\n\n\nTo reserve ahead\, Venmo @Courtney-Moreno-10 or email morenocourtney@gmail.com \n\n\n\nThursday\, August 15: Make A Dance \n\n\n\nChris Black (she/her) leads a warm-up\, then guides a collaborative and playful process of dance-making\, culminating in a short piece we will perform for ourselves. Emphasis on crafting movement as creative/theatrical expression versus technical training. \n\n\n\nThursday\, August 22: Riffing On A Phrase \n\n\n\nJerylann Warner (she/her) leads a contemporary-based warm-up followed by the introduction of a phrase to share\, including prompts to exercise creativity and individual style. \n\n\n\nThursday\, August 29: Floorwork & Inversions \n\n\n\nCourtney Moreno (she/they) leads an exploratory mix of improvisatory as well as taught phrases\, featuring floorwork and inversions\, to dive into techniques for landing softly and traveling smoothly. \n\n\n\nThursday\, September 5: Make Another Dance \n\n\n\nChris Black (she/her) leads a warm-up\, then guides a collaborative and playful process of dance-making\, culminating in a short piece we will perform for ourselves. Emphasis on crafting movement as creative/theatrical expression versus technical training. (Material\, prompts\, and structure will be different from and unrelated to August 8 class.) \n\n\n\nThursday\, September 12: Release Technique (or something like it) \n\n\n\nCourtney Moreno (she/her) leads a class designed to examine the weight of our limbs\, pelvis\, head\, and so on\, and connect the release of that weight to momentum and phrasework. \n\n\n\nThursday\, September 19: Beginning Ballet \n\n\n\nJordan Fleet (they/them) leads a slow warm-up introducing basic ballet techniques and positions. Ballet is strict but this class is about exploring the in-between moments of breath\, personal expression and connecting to the music you can find in between all of the rules. \n\n\n\nCost: Sliding fee suggested at $15- $25  \n\n\n\nPayable by Venmo or cash \n\n\n\nNO ONE TURNED AWAY FOR LACK OF FUNDS \n\n\n\nTo reserve ahead\, Venmo @Courtney-Moreno-10 or email morenocourtney@gmail.com
URL:https://www.wildheartcenter.art/event/moving-together/2024-09-12/
CATEGORIES:Classes & Events
ATTACH;FMTTYPE=image/jpeg:https://www.wildheartcenter.art/wp-content/uploads/2024/08/hand.jpg
END:VEVENT
BEGIN:VEVENT
DTSTART;TZID=America/New_York:20240915T160000
DTEND;TZID=America/New_York:20240915T183000
DTSTAMP:20260421T135509
CREATED:20251227T105125Z
LAST-MODIFIED:20251227T122537Z
UID:10000845-1726416000-1726425000@www.wildheartcenter.art
SUMMARY:Contact Improv Sundays @ WildHeart
DESCRIPTION:Contact Improv Sundays @ WildHeart \n\n\n\n  \n\n\n\nFirst and Third Sundays \n\n\n\n4:00-6:30pm (2nd and 4th Sundays in Kingston!) \n\n\n\nBYO dinner for a studio-floor picnic afterward \n\n\n\nCI Lab 4-5pm (with rotating teachers) \n\n\n\nOpen Jam 5-6:30pm \n\n\n\nRegister in advance \n\n\n\nOr if you prefer to pay cash at the door\, send us an email to let us know you’re coming\, so we can help you find your way to the studio. \n\n\n\nOvernight guests welcome (with advance notice). Let us know if you want to make a longer visit to WildHeart… email contact@wildheartcenter.art \n\n\n\n  \n\n\n\nWeeks that we’re not Jamming @ WildHeart\, Hudson Valley Contact Improv continues in Kingston. Email Hudsonvalleycontactimprov@gmail.com for more on the Kingston Jam \n\n\n\nLocation- This workshop will take place in the Barn. If you’re coming to WildHeart for the first time\, please visit our Directions page for arrival info. Refund policy No refunds\, no transfers
URL:https://www.wildheartcenter.art/event/contact-improv-3rd-sundays/2024-09-15/
CATEGORIES:Classes & Events
ATTACH;FMTTYPE=image/jpeg:https://www.wildheartcenter.art/wp-content/uploads/2022/05/Contact-Improvisation-Wildheart-scaled.jpg
END:VEVENT
BEGIN:VEVENT
DTSTART;TZID=America/New_York:20240917T160000
DTEND;TZID=America/New_York:20240927T110000
DTSTAMP:20260421T135509
CREATED:20240601T165521Z
LAST-MODIFIED:20240708T030214Z
UID:10000194-1726588800-1727434800@www.wildheartcenter.art
SUMMARY:Somatic Movement Education Program - Ligamentous & Fascial Module
DESCRIPTION:LIGAMENTOUS & FASCIAL- 9/17 – 9/27/24 (days off 9/22 & 9/23)Arrivals\, orientation and welcome dinner 9/17. Morning Departures 9/27/24 \n\n\n\nFascia provides the tensegrity matrix of the whole body. It wraps around all other structures as one continuous spiraling\, multilayered\, and multidimensional network of expansive sheaths\, enclosed containers and specialized attachments. These specialized attachments are the ligaments. The ligaments set the boundaries of movement between the bones. They coordinate and guide muscular responses by directing the path of movement between the bones and provide specificity\, clarity\, and efficiency for the alignment and movement of the bones. When all of the ligaments of a joint are actively engaged\, the movement of that joint becomes highly specific and is carried effortlessly to surrounding and successive joints. Fascia supports the psychophysical quality of micromovements of condensing and expanding consciousness without specific content within the embracing context of unity. The ligaments support the psychophysical quality of detailed specificity.
URL:https://www.wildheartcenter.art/event/somatic-movement-education-program-ligamentous-fascial-module/
LOCATION:Wildheart\, 183 East Road\, Wallkill\, NY\, 05156\, United States
CATEGORIES:Retreats
ATTACH;FMTTYPE=image/jpeg:https://www.wildheartcenter.art/wp-content/uploads/2024/05/Main-image.jpg
END:VEVENT
BEGIN:VEVENT
DTSTART;TZID=America/New_York:20240919T180000
DTEND;TZID=America/New_York:20240919T200000
DTSTAMP:20260421T135509
CREATED:20240823T180424Z
LAST-MODIFIED:20240823T181353Z
UID:10000204-1726768800-1726776000@www.wildheartcenter.art
SUMMARY:Moving Together
DESCRIPTION:Cost: Sliding fee suggested at $15- $25  \n\n\n\nPayable by Venmo or cash \n\n\n\nNO ONE TURNED AWAY FOR LACK OF FUNDS \n\n\n\nTo reserve ahead\, Venmo @Courtney-Moreno-10 or email morenocourtney@gmail.com \n\n\n\nThursday\, August 15: Make A Dance \n\n\n\nChris Black (she/her) leads a warm-up\, then guides a collaborative and playful process of dance-making\, culminating in a short piece we will perform for ourselves. Emphasis on crafting movement as creative/theatrical expression versus technical training. \n\n\n\nThursday\, August 22: Riffing On A Phrase \n\n\n\nJerylann Warner (she/her) leads a contemporary-based warm-up followed by the introduction of a phrase to share\, including prompts to exercise creativity and individual style. \n\n\n\nThursday\, August 29: Floorwork & Inversions \n\n\n\nCourtney Moreno (she/they) leads an exploratory mix of improvisatory as well as taught phrases\, featuring floorwork and inversions\, to dive into techniques for landing softly and traveling smoothly. \n\n\n\nThursday\, September 5: Make Another Dance \n\n\n\nChris Black (she/her) leads a warm-up\, then guides a collaborative and playful process of dance-making\, culminating in a short piece we will perform for ourselves. Emphasis on crafting movement as creative/theatrical expression versus technical training. (Material\, prompts\, and structure will be different from and unrelated to August 8 class.) \n\n\n\nThursday\, September 12: Release Technique (or something like it) \n\n\n\nCourtney Moreno (she/her) leads a class designed to examine the weight of our limbs\, pelvis\, head\, and so on\, and connect the release of that weight to momentum and phrasework. \n\n\n\nThursday\, September 19: Beginning Ballet \n\n\n\nJordan Fleet (they/them) leads a slow warm-up introducing basic ballet techniques and positions. Ballet is strict but this class is about exploring the in-between moments of breath\, personal expression and connecting to the music you can find in between all of the rules. \n\n\n\nCost: Sliding fee suggested at $15- $25  \n\n\n\nPayable by Venmo or cash \n\n\n\nNO ONE TURNED AWAY FOR LACK OF FUNDS \n\n\n\nTo reserve ahead\, Venmo @Courtney-Moreno-10 or email morenocourtney@gmail.com
URL:https://www.wildheartcenter.art/event/moving-together/2024-09-19/
CATEGORIES:Classes & Events
ATTACH;FMTTYPE=image/jpeg:https://www.wildheartcenter.art/wp-content/uploads/2024/08/hand.jpg
END:VEVENT
END:VCALENDAR