BEGIN:VCALENDAR
VERSION:2.0
PRODID:-//WildHeart - ECPv6.15.20//NONSGML v1.0//EN
CALSCALE:GREGORIAN
METHOD:PUBLISH
X-ORIGINAL-URL:https://www.wildheartcenter.art
X-WR-CALDESC:Events for WildHeart
REFRESH-INTERVAL;VALUE=DURATION:PT1H
X-Robots-Tag:noindex
X-PUBLISHED-TTL:PT1H
BEGIN:VTIMEZONE
TZID:America/New_York
BEGIN:DAYLIGHT
TZOFFSETFROM:-0500
TZOFFSETTO:-0400
TZNAME:EDT
DTSTART:20230312T070000
END:DAYLIGHT
BEGIN:STANDARD
TZOFFSETFROM:-0400
TZOFFSETTO:-0500
TZNAME:EST
DTSTART:20231105T060000
END:STANDARD
BEGIN:DAYLIGHT
TZOFFSETFROM:-0500
TZOFFSETTO:-0400
TZNAME:EDT
DTSTART:20240310T070000
END:DAYLIGHT
BEGIN:STANDARD
TZOFFSETFROM:-0400
TZOFFSETTO:-0500
TZNAME:EST
DTSTART:20241103T060000
END:STANDARD
BEGIN:DAYLIGHT
TZOFFSETFROM:-0500
TZOFFSETTO:-0400
TZNAME:EDT
DTSTART:20250309T070000
END:DAYLIGHT
BEGIN:STANDARD
TZOFFSETFROM:-0400
TZOFFSETTO:-0500
TZNAME:EST
DTSTART:20251102T060000
END:STANDARD
END:VTIMEZONE
BEGIN:VEVENT
DTSTART;TZID=America/New_York:20240906T160000
DTEND;TZID=America/New_York:20240916T110000
DTSTAMP:20260422T183828
CREATED:20240601T165546Z
LAST-MODIFIED:20240708T030409Z
UID:10000195-1725638400-1726484400@www.wildheartcenter.art
SUMMARY:Somatic Movement Education Program - Organs Module
DESCRIPTION:ORGANS 9/6 – 9/16/2024 (days off 9/11 & 9/12)Arrivals\, orientation and welcome dinner 9/6\, Morning departures 9/16 (day off if you’re staying for Ligaments and Fascia…) \n\n\n\nOur organs are vital and alive. They provide us with our sense of self\, full-bodiedness\, and organic authenticity. Organs are the contents within the skeletal-flesh container and carry on the functions of our internal survival — breathing\, nourishment and elimination. Organs are the primary habitats or natural environments of our emotions\, aspirations\, and the memories of our inner reactions to our personal and social histories. They support our postural tone and our feelings\, and give volume to our movement.
URL:https://www.wildheartcenter.art/event/somatic-movement-education-program-organs-module/
LOCATION:Wildheart\, 183 East Road\, Wallkill\, NY\, 05156\, United States
CATEGORIES:Retreats
ATTACH;FMTTYPE=image/jpeg:https://www.wildheartcenter.art/wp-content/uploads/2024/05/Main-image.jpg
END:VEVENT
BEGIN:VEVENT
DTSTART;TZID=America/New_York:20240917T160000
DTEND;TZID=America/New_York:20240927T110000
DTSTAMP:20260422T183828
CREATED:20240601T165521Z
LAST-MODIFIED:20240708T030214Z
UID:10000194-1726588800-1727434800@www.wildheartcenter.art
SUMMARY:Somatic Movement Education Program - Ligamentous & Fascial Module
DESCRIPTION:LIGAMENTOUS & FASCIAL- 9/17 – 9/27/24 (days off 9/22 & 9/23)Arrivals\, orientation and welcome dinner 9/17. Morning Departures 9/27/24 \n\n\n\nFascia provides the tensegrity matrix of the whole body. It wraps around all other structures as one continuous spiraling\, multilayered\, and multidimensional network of expansive sheaths\, enclosed containers and specialized attachments. These specialized attachments are the ligaments. The ligaments set the boundaries of movement between the bones. They coordinate and guide muscular responses by directing the path of movement between the bones and provide specificity\, clarity\, and efficiency for the alignment and movement of the bones. When all of the ligaments of a joint are actively engaged\, the movement of that joint becomes highly specific and is carried effortlessly to surrounding and successive joints. Fascia supports the psychophysical quality of micromovements of condensing and expanding consciousness without specific content within the embracing context of unity. The ligaments support the psychophysical quality of detailed specificity.
URL:https://www.wildheartcenter.art/event/somatic-movement-education-program-ligamentous-fascial-module/
LOCATION:Wildheart\, 183 East Road\, Wallkill\, NY\, 05156\, United States
CATEGORIES:Retreats
ATTACH;FMTTYPE=image/jpeg:https://www.wildheartcenter.art/wp-content/uploads/2024/05/Main-image.jpg
END:VEVENT
END:VCALENDAR