BEGIN:VCALENDAR
VERSION:2.0
PRODID:-//WildHeart - ECPv6.15.20//NONSGML v1.0//EN
CALSCALE:GREGORIAN
METHOD:PUBLISH
X-ORIGINAL-URL:https://www.wildheartcenter.art
X-WR-CALDESC:Events for WildHeart
REFRESH-INTERVAL;VALUE=DURATION:PT1H
X-Robots-Tag:noindex
X-PUBLISHED-TTL:PT1H
BEGIN:VTIMEZONE
TZID:America/New_York
BEGIN:DAYLIGHT
TZOFFSETFROM:-0500
TZOFFSETTO:-0400
TZNAME:EDT
DTSTART:20250309T070000
END:DAYLIGHT
BEGIN:STANDARD
TZOFFSETFROM:-0400
TZOFFSETTO:-0500
TZNAME:EST
DTSTART:20251102T060000
END:STANDARD
BEGIN:DAYLIGHT
TZOFFSETFROM:-0500
TZOFFSETTO:-0400
TZNAME:EDT
DTSTART:20260308T070000
END:DAYLIGHT
BEGIN:STANDARD
TZOFFSETFROM:-0400
TZOFFSETTO:-0500
TZNAME:EST
DTSTART:20261101T060000
END:STANDARD
BEGIN:DAYLIGHT
TZOFFSETFROM:-0500
TZOFFSETTO:-0400
TZNAME:EDT
DTSTART:20270314T070000
END:DAYLIGHT
BEGIN:STANDARD
TZOFFSETFROM:-0400
TZOFFSETTO:-0500
TZNAME:EST
DTSTART:20271107T060000
END:STANDARD
BEGIN:DAYLIGHT
TZOFFSETFROM:-0500
TZOFFSETTO:-0400
TZNAME:EDT
DTSTART:20280312T070000
END:DAYLIGHT
BEGIN:STANDARD
TZOFFSETFROM:-0400
TZOFFSETTO:-0500
TZNAME:EST
DTSTART:20281105T060000
END:STANDARD
END:VTIMEZONE
BEGIN:VEVENT
DTSTART;TZID=America/New_York:20260101T000000
DTEND;TZID=America/New_York:20270131T000000
DTSTAMP:20260422T191058
CREATED:20230101T224703Z
LAST-MODIFIED:20260108T180915Z
UID:10000183-1767225600-1801353600@www.wildheartcenter.art
SUMMARY:Artist Residencies
DESCRIPTION:
URL:https://www.wildheartcenter.art/event/artist-residency-2/
CATEGORIES:Artist Residencies
ATTACH;FMTTYPE=image/jpeg:https://www.wildheartcenter.art/wp-content/uploads/2022/05/artist-residencies-scaled-e1654436031852.jpeg
END:VEVENT
BEGIN:VEVENT
DTSTART;TZID=America/New_York:20260307T120000
DTEND;TZID=America/New_York:20260308T150000
DTSTAMP:20260422T191058
CREATED:20260203T142049Z
LAST-MODIFIED:20260203T142059Z
UID:10002049-1772884800-1772982000@www.wildheartcenter.art
SUMMARY:Freedom within Form
DESCRIPTION:This workshop aims to provide a container where mutual flow and deep play allows the emergence of a consensual dance. Using sensations and images\, we (re)visit techniques to ignite and expand our understanding of physical possibilities while engaged in the act of improvising. We look at our own expectations and tendencies. We make room and invite empty space\, ushering more unknown. We show up\, more fully present and experience freedom within form. \n\n\n\nThis workshop includes the option to participate in WildHeart’s Shared Stage event on the evening of March 7. During the workshop\, participants will receive prompts that will be used as a devised\, improvised score for the performance.  \n\n\n\nShared Stage is a curated evening featuring 4–6 solo or ensemble artists from a range of disciplines\, each presenting 10–20 minutes of performance work at any stage of development. If you are interested in performing as part of Olivier’s piece\, artist call-time is 4:30pm\, and the performance begins at 7:30pm.
URL:https://www.wildheartcenter.art/event/freedom-within-form-032026/
CATEGORIES:Classes & Events
ATTACH;FMTTYPE=image/jpeg:https://www.wildheartcenter.art/wp-content/uploads/2026/02/Main-Event-Image.jpg
END:VEVENT
BEGIN:VEVENT
DTSTART;TZID=America/New_York:20260307T193000
DTEND;TZID=America/New_York:20260307T210000
DTSTAMP:20260422T191058
CREATED:20250417T025936Z
LAST-MODIFIED:20260305T174535Z
UID:10000086-1772911800-1772917200@www.wildheartcenter.art
SUMMARY:Shared Stage Performance
DESCRIPTION:Join us for a delightful evening of short performances! This special evening features 3-6 performances\, each 10-20 minutes long from artists of different disciplines. This is a chance for artists to share work\, or excerpts of their work\, alongside other artists. Audiences will be given the option to write a note for each artist\, sharing their experience of the work. This is a wonderful opportunity for artists to receive feedback about the impact of their work\, and for audiences to feel into the impact of each piece. The mixture of pieces – from dance\, to music\, to theater\, to visual art\, to experimental art – makes for a fun\, inspiring\, and diverse evening.  \n\n\n\n\n\n\n\n\n\n\n\n\n\n\nGet Tickets\n\n\n\n\n\n\nIn March we are thrilled to present a variety of experimental theater\, improvisation\, dance\, and music created and performed by local artists ⎯ Dagen the Pagan\, Anri Nakano\, Gathering Wild\, Olivier Besson\, Tiffany Wilson and Carlos Feitoza. \n\n\n\n\n\n\n\n\nOut There\, In There\n\n\n\n\n\nPerformed by: Dagan the Pagan \n\n\n\n \n\n\n\nDescription: \n\n\n\nTonight’s show will be a few small solo acts\, each unique with their own flavor and message\,  as well as a complex\, environmental performance event involving many audience volunteers. \n\n\n\nArtist Bio: \n\n\n\nThe career span of my life goes from music teacher to children’s entertainer to clown to performance artist.  In my active 70’s\, I seek to combine my greatest interests – children\, the arts\, nature\, community\, and spirituality – into a unified whole as a stage persona that lives in the land of the absurd.  I am thrilled to be at a point in my life where I have mastered many forms of creative expression and can just simply allow myself to blossom into a full blown stage presence with a mission to help the world. \n\n\n\n\n\n\n\n\n\n\n\n\n\n\n\n\n\nUnbroken\n\n\n\n\n\nPerformed by: Anri Nakano \n\n\n\nMusic by: Les Souvenirs et les Émotions by Ludovico Einaudi\, I Wish I Knew How It Would Feel to Be Free by Nina Simone\, Rose Bay by Ludovico Einaudi \n\n\n\nDescription:  \n\n\n\nLife has an interesting way of surprising you. Several years ago\, I was betrayed and experienced heartache and despair unlike any other time in my life. My heart was shattered\, my spirit was weary\, and it almost broke me. I kept walking through that dark tunnel for a long time. Now I am on the other side\, feeling the light on my skin\, soaking up the warmth\, breathing in fresh air\, and reaching my hands up to the sky. \n\n\n\nArtist Bio: \n\n\n\nAnri Nakano was born in Fukuoka\, Japan. As a child\, she loved hiding in her secret fort\, making up songs\, and dancing freely. Through her work today\, she continues to tap into that frolic energy. As a dance educator\, she works with elementary and middle school children\, creating student-centered experiences that invite imagination\, creativity\, and social-emotional learning. As a solo artist\, her work has been presented in New York City\, Los Angeles\, Santa Barbara\, Philadelphia\, Sweden\, and Japan. She holds a B.F.A. in Dance/Theatre from CUNY Lehman College and a teaching certificate from the Dance Education Laboratory. \n\n\n\n\n\n\n\n\n\n\n\n\n\n\n\n\n\nUntitled\n\n\n\n\n\nPerformed by: Gathering WildDancers: Emma Laufersweiler\,  Meredith Casimiro\, Brianna Dixon\, Lauren Mark\, Lillian Kemanis\, Lara Shmakov Choreographed by: Jerylann Warner \n\n\n\nDescription: \n\n\n\nBuilding a stock pile of movement ideas for a bigger piece this summer. \n\n\n\nArtist Bio: \n\n\n\nA newly formed company of Hudson Valley dancers working out of Wild Heart…” Gathering Wild”  draws energy from the desire to move together \, to not displace or become adrift from the need to be with others doing what we love . Also notable \, Gathering Wild began in Atlanta and has resumed a life in the HV under the direction of Jerylann Warner. \n\n\n\n\n\n\n\n\n\n\n\n\n\n\n\n\n\nA Time Upon Once\n\n\n\n\n\nPerformed by: Olivier Besson \n\n\n\nDescription: \n\n\n\n Improvisation is a direction of effort… never a result. How do we create a dance with space\, allowing it to flower in our presence? \n\n\n\nArtist Bio: \n\n\n\nOlivier Besson is a Boston based movement artist of Japanese and French heritage. He was introduced to the notion of dance and community through his exposure to ecstatic dance\, his subsequent training in contact improvisation and his ritual practice of Bugaku (Japanese court dance). He has been involved with the study and inquiry of improvisation ever since. His performances have been presented in France\, Taiwan\, Russia\, Japan\, India and the US. He is on faculty at The Boston Conservatory At Berklee where he curates Moment’s Notice\, an interdisciplinary improv performance series. \n\n\n\n\n\n\n\n\n\n\n\nLyrical and Musical Improvisation\n\n\n\n\n\nPerformed by: Tiffany Wilson and Carlos Feitoza \n\n\n\nDescription: \n\n\n\nThis specific musical offering at WildHeart is completely unique from all their previous projects and 100% inspired by the love Tiffany and Carlos share for their daughter\, Georgie Lou. It will be a little jazzy\, a little lullaby\, these two will spontaneously create stories from their real lives as first time parents through song on piano and voice. \n\n\n\nArtist Bio: \n\n\n\nTiffany Wilson is a singer-songwriter and goes by the moniker Curt Mercy on Spotify and Apple Music. She has been singing and performing her whole life and most recently has taken time away to build a family with her partner\, Carlos. Carlos Feitoza is a musician and sound engineer. He goes under the name Brother Los on Spotify and Apple Music. Tiffany and Carlos have a 5month old baby named\, Georgie Lou who has inspired some new musical ideas their excited to share. \n\n\n\n\n\n\n\n\n\n\n\n\n\n\n\n\nPerformance Location\n\n\n\n \n\n\n\nWildHeart is located on 46+ beautiful acres in the Hudson Valley at 183 East Road\, Wallkill\, NY. This event will take place in the Barn\, the large building at the end of the driveway. You can park in either of the two parking areas on the right side of the driveway before you get to the Barn. There are also a few spots in front of the Barn. More info about directions and transportation options HERE. \n\n\n\nGet Tickets for Shared Stage\n\n\n\nRefund Policy \n\n\n\n\nNo refunds\, no transfers\n\n\n\n\nBIPOC spotsWe are offering 2 free spots for BIPOC folx. Please select BIPOC Spot from the Pricing drop down to use one. \n\n\n\n \n\n\n\n\n                \n                        \n                             \n                         \n \n                        PhoneThis field is for validation purposes and should be left unchanged.Contact DetailsName(Required)\n                            \n                            \n                                                    First\n                                                    \n                                                \n                            \n                            \n                                                            Last\n                                                            \n                                                        \n                            \n                                                        Pronouns\n                                                        \n                                                    \n                        Email(Required)\n                                \n                                    Enter Email\n                                    \n                                \n                                \n                                    Confirm Email\n                                    \n                                \n                                \n                            PricingSliding ScaleBIPOC SpotTo use a BIPOC Spot\, please select that option from the list\, otherwise leave it on Sliding Scale.Number of TicketsPlease enter a number from 1 to 999.Please enter the number of tickets you’d like to purchase.Price (Total)(Required)\n					\n				$5-35 sliding scale per ticket. Please enter the total you’d like to pay for all tickets. We can accept Venmo and Credit/Debit Cards for advances sales.BIPOC Registration\n					\n					\n						Price:\n						\n					\n					\n				If you are using the BIPOC Registration code\, then please select Venmo to pay\, and you don’t need to send any money unless you’d like to.Release from Liability(Required) I have read and agree to the liability release.Registered Guests\, and all persons accompanying registered guests\, hereby accept responsibility for their personal property and safety and irrevocably release and hold harmless WildHeart Collective LLC and WildHeart Center LLC\, its affiliates\, associates\, representatives\, and rental property owners from any cost or liability whatsoever arising from loss\, damage\, personal injury\, illness\, death\, weather-related circumstances\, or any circumstance whether caused by the negligence of the Owner or any of the Released Parties or by any other reason\, occurring during or affecting a Guest’s reservation or stay.Payment DetailsHow would you like to pay?(Required)VenmoCardPlease pay with cash when submitting this form.Please send your payment to @WildHeartCenter when submitting this form and add the note “shared stage”Address(Required)    \n                    \n                         \n                                        Street Address\n                                        \n                                   \n                                        Address Line 2\n                                        \n                                    \n                                    City\n                                    \n                                 \n                                        State / Province / Region\n                                        \n                                      \n                                    ZIP / Postal Code\n                                    \n                                \n                                        Country\n                                        AfghanistanAlbaniaAlgeriaAmerican SamoaAndorraAngolaAnguillaAntarcticaAntigua and BarbudaArgentinaArmeniaArubaAustraliaAustriaAzerbaijanBahamasBahrainBangladeshBarbadosBelarusBelgiumBelizeBeninBermudaBhutanBoliviaBonaire\, Sint Eustatius and SabaBosnia and HerzegovinaBotswanaBouvet IslandBrazilBritish Indian Ocean TerritoryBrunei DarussalamBulgariaBurkina FasoBurundiCabo VerdeCambodiaCameroonCanadaCayman IslandsCentral African RepublicChadChileChinaChristmas IslandCocos IslandsColombiaComorosCongoCongo\, Democratic Republic of theCook IslandsCosta RicaCroatiaCubaCuraçaoCyprusCzechiaCôte d'IvoireDenmarkDjiboutiDominicaDominican RepublicEcuadorEgyptEl SalvadorEquatorial GuineaEritreaEstoniaEswatiniEthiopiaFalkland IslandsFaroe IslandsFijiFinlandFranceFrench GuianaFrench PolynesiaFrench Southern TerritoriesGabonGambiaGeorgiaGermanyGhanaGibraltarGreeceGreenlandGrenadaGuadeloupeGuamGuatemalaGuernseyGuineaGuinea-BissauGuyanaHaitiHeard Island and McDonald IslandsHoly SeeHondurasHong KongHungaryIcelandIndiaIndonesiaIranIraqIrelandIsle of ManIsraelItalyJamaicaJapanJerseyJordanKazakhstanKenyaKiribatiKorea\, Democratic People's Republic ofKorea\, Republic ofKuwaitKyrgyzstanLao People's Democratic RepublicLatviaLebanonLesothoLiberiaLibyaLiechtensteinLithuaniaLuxembourgMacaoMadagascarMalawiMalaysiaMaldivesMaliMaltaMarshall IslandsMartiniqueMauritaniaMauritiusMayotteMexicoMicronesiaMoldovaMonacoMongoliaMontenegroMontserratMoroccoMozambiqueMyanmarNamibiaNauruNepalNetherlandsNew CaledoniaNew ZealandNicaraguaNigerNigeriaNiueNorfolk IslandNorth MacedoniaNorthern Mariana IslandsNorwayOmanPakistanPalauPalestine\, State ofPanamaPapua New GuineaParaguayPeruPhilippinesPitcairnPolandPortugalPuerto RicoQatarRomaniaRussian FederationRwandaRéunionSaint BarthélemySaint Helena\, Ascension and Tristan da CunhaSaint Kitts and NevisSaint LuciaSaint MartinSaint Pierre and MiquelonSaint Vincent and the GrenadinesSamoaSan MarinoSao Tome and PrincipeSaudi ArabiaSenegalSerbiaSeychellesSierra LeoneSingaporeSint MaartenSlovakiaSloveniaSolomon IslandsSomaliaSouth AfricaSouth Georgia and the South Sandwich IslandsSouth SudanSpainSri LankaSudanSurinameSvalbard and Jan MayenSwedenSwitzerlandSyria Arab RepublicTaiwanTajikistanTanzania\, the United Republic ofThailandTimor-LesteTogoTokelauTongaTrinidad and TobagoTunisiaTurkmenistanTurks and Caicos IslandsTuvaluTürkiyeUS Minor Outlying IslandsUgandaUkraineUnited Arab EmiratesUnited KingdomUnited StatesUruguayUzbekistanVanuatuVenezuelaViet NamVirgin Islands\, BritishVirgin Islands\, U.S.Wallis and FutunaWestern SaharaYemenZambiaZimbabweÅland Islands \n                                    \n                    \n                Total\n							\n						Credit Card(Required)
URL:https://www.wildheartcenter.art/event/shared-stage-march-2026/
CATEGORIES:Classes & Events
ATTACH;FMTTYPE=image/jpeg:https://www.wildheartcenter.art/wp-content/uploads/2025/04/artmonastery_LL-8.jpg
END:VEVENT
END:VCALENDAR