BEGIN:VCALENDAR
VERSION:2.0
PRODID:-//WildHeart - ECPv6.15.20//NONSGML v1.0//EN
CALSCALE:GREGORIAN
METHOD:PUBLISH
X-WR-CALNAME:WildHeart
X-ORIGINAL-URL:https://www.wildheartcenter.art
X-WR-CALDESC:Events for WildHeart
REFRESH-INTERVAL;VALUE=DURATION:PT1H
X-Robots-Tag:noindex
X-PUBLISHED-TTL:PT1H
BEGIN:VTIMEZONE
TZID:America/New_York
BEGIN:DAYLIGHT
TZOFFSETFROM:-0500
TZOFFSETTO:-0400
TZNAME:EDT
DTSTART:20240310T070000
END:DAYLIGHT
BEGIN:STANDARD
TZOFFSETFROM:-0400
TZOFFSETTO:-0500
TZNAME:EST
DTSTART:20241103T060000
END:STANDARD
BEGIN:DAYLIGHT
TZOFFSETFROM:-0500
TZOFFSETTO:-0400
TZNAME:EDT
DTSTART:20250309T070000
END:DAYLIGHT
BEGIN:STANDARD
TZOFFSETFROM:-0400
TZOFFSETTO:-0500
TZNAME:EST
DTSTART:20251102T060000
END:STANDARD
BEGIN:DAYLIGHT
TZOFFSETFROM:-0500
TZOFFSETTO:-0400
TZNAME:EDT
DTSTART:20260308T070000
END:DAYLIGHT
BEGIN:STANDARD
TZOFFSETFROM:-0400
TZOFFSETTO:-0500
TZNAME:EST
DTSTART:20261101T060000
END:STANDARD
END:VTIMEZONE
BEGIN:VEVENT
DTSTART;TZID=America/New_York:20250430T180000
DTEND;TZID=America/New_York:20250430T193000
DTSTAMP:20260420T144614
CREATED:20241024T033511Z
LAST-MODIFIED:20250521T090355Z
UID:10000049-1746036000-1746041400@www.wildheartcenter.art
SUMMARY:Yin-Restore with Niki
DESCRIPTION:Yin-Restore with Niki (in-person or online) \n\n\n\n6-7.30pm Tuesday evenings starting November 5th (90 mins) \n\n\n\n A Yin/ Restorative practice that uses props & longer holding poses to stimulate the ‘relaxation response’. I aim to hold space for folks and guide them to play with their edge\, release control and let gravity do the work. Join in-person or online. A link to the online class will be sent once you register. \n\n\n\n$15-25 (BIPOC – pay what you can)
URL:https://www.wildheartcenter.art/event/yin-with-niki/2025-04-30/
CATEGORIES:Classes & Events
ATTACH;FMTTYPE=image/jpeg:https://www.wildheartcenter.art/wp-content/uploads/2024/10/20180909_103447.jpg
END:VEVENT
BEGIN:VEVENT
DTSTART;TZID=America/New_York:20250430T180000
DTEND;TZID=America/New_York:20250430T193000
DTSTAMP:20260420T144614
CREATED:20241024T033511Z
LAST-MODIFIED:20250415T151852Z
UID:10000054-1746036000-1746041400@www.wildheartcenter.art
SUMMARY:Yin-Restore with Niki
DESCRIPTION:Yin-Restore with Niki (in-person or online) \n\n\n\n6-7.30pm Tuesday evenings starting November 5th (90 mins) \n\n\n\n A Yin/ Restorative practice that uses props & longer holding poses to stimulate the ‘relaxation response’. I aim to hold space for folks and guide them to play with their edge\, release control and let gravity do the work. Join in-person or online. A link to the online class will be sent once you register. \n\n\n\n$15-25 (BIPOC – pay what you can)
URL:https://www.wildheartcenter.art/event/yin-with-niki-2025-04-30/
CATEGORIES:Classes & Events
ATTACH;FMTTYPE=image/jpeg:https://www.wildheartcenter.art/wp-content/uploads/2024/10/20180909_103447.jpg
END:VEVENT
END:VCALENDAR