BEGIN:VCALENDAR
VERSION:2.0
PRODID:-//WildHeart - ECPv6.15.20//NONSGML v1.0//EN
CALSCALE:GREGORIAN
METHOD:PUBLISH
X-ORIGINAL-URL:https://www.wildheartcenter.art
X-WR-CALDESC:Events for WildHeart
REFRESH-INTERVAL;VALUE=DURATION:PT1H
X-Robots-Tag:noindex
X-PUBLISHED-TTL:PT1H
BEGIN:VTIMEZONE
TZID:America/New_York
BEGIN:DAYLIGHT
TZOFFSETFROM:-0500
TZOFFSETTO:-0400
TZNAME:EDT
DTSTART:20240310T070000
END:DAYLIGHT
BEGIN:STANDARD
TZOFFSETFROM:-0400
TZOFFSETTO:-0500
TZNAME:EST
DTSTART:20241103T060000
END:STANDARD
BEGIN:DAYLIGHT
TZOFFSETFROM:-0500
TZOFFSETTO:-0400
TZNAME:EDT
DTSTART:20250309T070000
END:DAYLIGHT
BEGIN:STANDARD
TZOFFSETFROM:-0400
TZOFFSETTO:-0500
TZNAME:EST
DTSTART:20251102T060000
END:STANDARD
BEGIN:DAYLIGHT
TZOFFSETFROM:-0500
TZOFFSETTO:-0400
TZNAME:EDT
DTSTART:20260308T070000
END:DAYLIGHT
BEGIN:STANDARD
TZOFFSETFROM:-0400
TZOFFSETTO:-0500
TZNAME:EST
DTSTART:20261101T060000
END:STANDARD
END:VTIMEZONE
BEGIN:VEVENT
DTSTART;TZID=America/New_York:20250429T083000
DTEND;TZID=America/New_York:20250429T093000
DTSTAMP:20260420T203108
CREATED:20241024T040153Z
LAST-MODIFIED:20250521T143259Z
UID:10000214-1745915400-1745919000@www.wildheartcenter.art
SUMMARY:Rise & Shine with Niki
DESCRIPTION:Rise & Shine with Niki (in-person or online)8.30-9.30am Tuesday mornings (50 mins)Rise & Shine – Kickstart your day with this class by working with your body & breath. A physical practice that focuses on strength\, flexibility\, breath and balance through static or linked poses\, mandala flows\, and challenging ‘peak pose’ flows to bring you into your bodies and onto your mats\, leaving you blissfully energized and ready for your day. We will use Hatha & Vinyasa yoga to help improve internal and external stability. While some knowledge of basic yoga asanas can be helpful\, it doesn’t matter where you are on your yoga journey\, by attending regularly you will benefit from advancing your yoga practice and challenging yourself daily. Join in-person or online. A link to the online class will be sent once you register.$15-25 (BIPOC – pay what you can)
URL:https://www.wildheartcenter.art/event/rise-with-niki/2025-04-29/
CATEGORIES:Classes & Events
ATTACH;FMTTYPE=image/jpeg:https://www.wildheartcenter.art/wp-content/uploads/2024/10/20200213_120104-e1729741184478.jpg
END:VEVENT
END:VCALENDAR