BEGIN:VCALENDAR
VERSION:2.0
PRODID:-//WildHeart - ECPv6.15.20//NONSGML v1.0//EN
CALSCALE:GREGORIAN
METHOD:PUBLISH
X-WR-CALNAME:WildHeart
X-ORIGINAL-URL:https://www.wildheartcenter.art
X-WR-CALDESC:Events for WildHeart
REFRESH-INTERVAL;VALUE=DURATION:PT1H
X-Robots-Tag:noindex
X-PUBLISHED-TTL:PT1H
BEGIN:VTIMEZONE
TZID:America/New_York
BEGIN:DAYLIGHT
TZOFFSETFROM:-0500
TZOFFSETTO:-0400
TZNAME:EDT
DTSTART:20240310T070000
END:DAYLIGHT
BEGIN:STANDARD
TZOFFSETFROM:-0400
TZOFFSETTO:-0500
TZNAME:EST
DTSTART:20241103T060000
END:STANDARD
BEGIN:DAYLIGHT
TZOFFSETFROM:-0500
TZOFFSETTO:-0400
TZNAME:EDT
DTSTART:20250309T070000
END:DAYLIGHT
BEGIN:STANDARD
TZOFFSETFROM:-0400
TZOFFSETTO:-0500
TZNAME:EST
DTSTART:20251102T060000
END:STANDARD
BEGIN:DAYLIGHT
TZOFFSETFROM:-0500
TZOFFSETTO:-0400
TZNAME:EDT
DTSTART:20260308T070000
END:DAYLIGHT
BEGIN:STANDARD
TZOFFSETFROM:-0400
TZOFFSETTO:-0500
TZNAME:EST
DTSTART:20261101T060000
END:STANDARD
END:VTIMEZONE
BEGIN:VEVENT
DTSTART;TZID=America/New_York:20250303T190000
DTEND;TZID=America/New_York:20250303T203000
DTSTAMP:20260421T002431
CREATED:20241014T033351Z
LAST-MODIFIED:20241221T210906Z
UID:10000031-1741028400-1741033800@www.wildheartcenter.art
SUMMARY:Vocal Tapestry: Winter Class Series
DESCRIPTION:Connect to your creative spirit. Trust the flow of your imagination through vocal improvisation. Dive into the unique expression of your voice while thrilling your soul in a thriving community. This class series will teach you to tap into your creative essence through the building blocks of improvisation.  \n\n\n\nVocal Tapestry is a safe and fun space to weave together principles of spontaneous composition\, such as rhythm\, melody\, and dynamics. Each week\, we will play games and learn practices that focus on a specific element of vocal improvisation to develop your awareness\, skills\, and confidence.  \n\n\n\nSign up for the entire 8 week series\, or drop in for individual classes. \n\n\n\nJanuary 13 \n\n\n\nJanuary 20 \n\n\n\nJanuary 27 \n\n\n\nFebruary 3 \n\n\n\nFebruary 10 \n\n\n\nFebruary 17 \n\n\n\nFebruary 24 \n\n\n\nMarch 3
URL:https://www.wildheartcenter.art/event/vocal-tapestry-winter-2025-class-series/2025-03-03/
CATEGORIES:Classes & Events
ATTACH;FMTTYPE=image/jpeg:https://www.wildheartcenter.art/wp-content/uploads/2024/10/VT-Paris-Pink-Group-Pic-e1728877185381.jpg
END:VEVENT
END:VCALENDAR