BEGIN:VCALENDAR
VERSION:2.0
PRODID:-//WildHeart - ECPv6.15.20//NONSGML v1.0//EN
CALSCALE:GREGORIAN
METHOD:PUBLISH
X-ORIGINAL-URL:https://www.wildheartcenter.art
X-WR-CALDESC:Events for WildHeart
REFRESH-INTERVAL;VALUE=DURATION:PT1H
X-Robots-Tag:noindex
X-PUBLISHED-TTL:PT1H
BEGIN:VTIMEZONE
TZID:America/New_York
BEGIN:DAYLIGHT
TZOFFSETFROM:-0500
TZOFFSETTO:-0400
TZNAME:EDT
DTSTART:20230312T070000
END:DAYLIGHT
BEGIN:STANDARD
TZOFFSETFROM:-0400
TZOFFSETTO:-0500
TZNAME:EST
DTSTART:20231105T060000
END:STANDARD
BEGIN:DAYLIGHT
TZOFFSETFROM:-0500
TZOFFSETTO:-0400
TZNAME:EDT
DTSTART:20240310T070000
END:DAYLIGHT
BEGIN:STANDARD
TZOFFSETFROM:-0400
TZOFFSETTO:-0500
TZNAME:EST
DTSTART:20241103T060000
END:STANDARD
BEGIN:DAYLIGHT
TZOFFSETFROM:-0500
TZOFFSETTO:-0400
TZNAME:EDT
DTSTART:20250309T070000
END:DAYLIGHT
BEGIN:STANDARD
TZOFFSETFROM:-0400
TZOFFSETTO:-0500
TZNAME:EST
DTSTART:20251102T060000
END:STANDARD
END:VTIMEZONE
BEGIN:VEVENT
DTSTART;TZID=America/New_York:20241010T190000
DTEND;TZID=America/New_York:20241010T213000
DTSTAMP:20260421T192707
CREATED:20240925T043819Z
LAST-MODIFIED:20240925T044816Z
UID:10000205-1728586800-1728595800@www.wildheartcenter.art
SUMMARY:The Poetry of Human Encounter: An Introduction to Biodanza
DESCRIPTION:Biodanza is a form of human development that uses dance\, music\, movement and ritual to embody the deep humanity we wish to root in our selves and our community. It is an antidote to the less than kind\, less than healthy\, culture that we presently live in. Biodanza is an invitation for each individual to cultivate “Vivencia” – the experience of being fully and joyfully alive in the moment with our community. Biodanza encourages us to rekindle our connection to self\, others and the world through dancing the simple and beautiful gestures of everyday life\, including circles\, walking\, taking hands\, encounters\, hugs\, touch\, caress\, witnessing\, rhythm and joy. From the state of awareness experienced in Vivencia\, we can weave dances of simple and profound presence. In Vivencia\, we can open ourselves to passionate and blissful dialogues of sacredness\, humility\, and humanity. In the moving poetry of our encounters\, we can rediscover the joy and profound grace of being alive… together! Biodanza is not about any form of proficiency. It is a personal and cultural transformative practice for everyone who yearns to really live. Biodanza is for proficient dancers and people who still think they cannot dance.  \n\n\n\nCome dance with us! \n\n\n\n\n\n\n\n\n\n\n\n\n\n\n\n\n\nBIPOC spotsWe are offering 2 free spots for BIPOC folx. Please email contact@wildheartcenter.art to get the registration code for one of these spots. \n\n\n\n\n\n\n\n\n\n\nBiodanza is an invitation to cultivate the experience of “Vivencia” — the ability to be profoundly present to experiencing life in each moment. \n\n\n\nBiodanza encourages us to explore the gestures and embodied vocabulary of Vivencia\, letting us rekindle our connection to self\, others\, and the world. Biodanza uses the simple and beautiful movements of everyday living\, including circles\, taking hands\, encounters\, hugs\, touch\, caress\, witnessing\, rhythm\, and joy. In service to the experience of Vivencia\, we weave dances of simple and profound presence. We open ourselves to passionate and blissful dialogues of sacredness\, humility\, and humanity. In the moving poetry of dance\, we rediscover the joy and profound grace of being alive… together! Biodanza is not about any form of proficiency. It is a personal and cultural transformative practice using dance and ritual for everyone who yearns to really live. Biodanza is for proficient dancers and people who still think they cannot dance.  \n\n\n\nBiodanza was created in the 1960s by the Chilean anthropologist and psychologist Rolando Toro Araneda. The Biodanza system is now found in 54 countries\, including Argentina\, Belgium\, Brazil\, Chile\, Colombia\, Czech Republic\, Ecuador\, France\, Germany\, Israel\, India\, Italy\, Netherlands\, New Zealand\, Norway\, Sweden\, Portugal\, Spain\, Switzerland\, United Kingdom\, Uruguay\, Venezuela\, Australia\, Japan\, South Africa\, United States\, Ireland and Russia. \n\n\n\n\n\n\n\nSchedule\n\n\n\n Workshop from 7-9:30 pmOption to stay overnight at WildHeart before or after – come early or stay late. Reach out to us at  contact@wildheartcenter.art to confirm your stay. \n\n\n\n\n\nWho is it for?\n\n\n\nAnyone who wishes to be fully alive\, more deeply connected to self\, others\, and the world. For dancers\, and non-dancers\, Biodanza is not about any form of proficiency. \n\n\n\n\n\n\n\nTestimonials\n\n\n\n\n\n“I’ve danced my whole life. Biodanza is the heart of everything meaningful in dance\, and truly it is the heart of what it means to be alive. Our local facilitator is a profound and gifted teacher\, who conveys and transports us to rare realms of experience.” ~ DG \n\n\n\n\n\n“Meeting biodanza was love at first sight. A love that I will never part with. It keeps shifting the way I perceive and live my everyday life in a revolutionary way.” ~ CS \n\n\n\n\n\n\n\n\nRefund Policy\n\n\n\n\nIn advance of 1 week – full refund (less processing fee)\n\n\n\nWithin 1 week – no refund\n\n\n\n\nThis policy stands even in case of sickness so we encourage participants to plan accordingly. \n\n\n\n\n\nCOVID Policy\n\n\n\nPlease respect each other by staying home if you are feeling ill with any Covid or flu symptoms\, or have tested positive and do not meet the CDC guidelines for resuming contact with others.
URL:https://www.wildheartcenter.art/event/biodanza-sept24/
CATEGORIES:Classes & Events
ATTACH;FMTTYPE=image/jpeg:https://www.wildheartcenter.art/wp-content/uploads/2024/09/Biodanza-general.pub_.jpg
END:VEVENT
END:VCALENDAR