BEGIN:VCALENDAR
VERSION:2.0
PRODID:-//WildHeart - ECPv6.15.20//NONSGML v1.0//EN
CALSCALE:GREGORIAN
METHOD:PUBLISH
X-ORIGINAL-URL:https://www.wildheartcenter.art
X-WR-CALDESC:Events for WildHeart
REFRESH-INTERVAL;VALUE=DURATION:PT1H
X-Robots-Tag:noindex
X-PUBLISHED-TTL:PT1H
BEGIN:VTIMEZONE
TZID:America/New_York
BEGIN:DAYLIGHT
TZOFFSETFROM:-0500
TZOFFSETTO:-0400
TZNAME:EDT
DTSTART:20230312T070000
END:DAYLIGHT
BEGIN:STANDARD
TZOFFSETFROM:-0400
TZOFFSETTO:-0500
TZNAME:EST
DTSTART:20231105T060000
END:STANDARD
BEGIN:DAYLIGHT
TZOFFSETFROM:-0500
TZOFFSETTO:-0400
TZNAME:EDT
DTSTART:20240310T070000
END:DAYLIGHT
BEGIN:STANDARD
TZOFFSETFROM:-0400
TZOFFSETTO:-0500
TZNAME:EST
DTSTART:20241103T060000
END:STANDARD
BEGIN:DAYLIGHT
TZOFFSETFROM:-0500
TZOFFSETTO:-0400
TZNAME:EDT
DTSTART:20250309T070000
END:DAYLIGHT
BEGIN:STANDARD
TZOFFSETFROM:-0400
TZOFFSETTO:-0500
TZNAME:EST
DTSTART:20251102T060000
END:STANDARD
END:VTIMEZONE
BEGIN:VEVENT
DTSTART;TZID=America/New_York:20240729T140000
DTEND;TZID=America/New_York:20240802T160000
DTSTAMP:20260422T011451
CREATED:20240621T071413Z
LAST-MODIFIED:20240708T024643Z
UID:10000198-1722261600-1722614400@www.wildheartcenter.art
SUMMARY:The Desire for Immortality - An Artistic Exploration of the Fear of Life's Transience - Part 2 Crafting / Rehearsing / Performing
DESCRIPTION:During this two-week artistic research workshop and performance project with Brussels Theater Director Pascal Buyse we will explore how ‘immortality and the human urge to transcend death’ influence our modern-day life and today’s connection with nature. By connecting mystical tales from the past with today’s connection with nature\, we explore together the deeper layers of the theme of impermanence and how it resonates throughout the ages. The project will culminate in a performance open to the public on August 1st at WildHeart.
URL:https://www.wildheartcenter.art/event/the-desire-for-immortality-an-artistic-exploration-of-the-fear-of-lifes-transience-part-2-crafting-rehearsing-performing/
LOCATION:Wildheart\, 183 East Road\, Wallkill\, NY\, 05156\, United States
CATEGORIES:Retreats
ATTACH;FMTTYPE=image/jpeg:https://www.wildheartcenter.art/wp-content/uploads/2024/06/Wildheart_2024_01-1-e1718954612618.jpg
END:VEVENT
BEGIN:VEVENT
DTSTART;TZID=America/New_York:20240802T140000
DTEND;TZID=America/New_York:20240804T170000
DTSTAMP:20260422T011451
CREATED:20240504T165246Z
LAST-MODIFIED:20240504T165251Z
UID:10000006-1722607200-1722790800@www.wildheartcenter.art
SUMMARY:Myofascial Release in Voice and Contact Improvisation
DESCRIPTION:This Body-Mind Centering® retreat will offer an introduction to the fascial system through the practices of vocalization and contact improvisation. We will explore the principles and qualities of fascia\, celebrate the connectivity in our bodies\, and unwind myofascial tension. \n\n\n\nFacilitated by: Nicole Bindler and Elissa Weinzimmer
URL:https://www.wildheartcenter.art/event/myofascial-release-in-voice-and-contact-improvisation/
LOCATION:Wildheart\, 183 East Road\, Wallkill\, NY\, 05156\, United States
CATEGORIES:Retreats
ATTACH;FMTTYPE=image/jpeg:https://www.wildheartcenter.art/wp-content/uploads/2024/05/Main-event-image.-Credit_-Earthdance-bright-e1715084569612.jpg
END:VEVENT
END:VCALENDAR